BEGIN:VCALENDAR
VERSION:2.0
PRODID:-//Calendario de Eventos Gran Canaria - ECPv6.15.17.1//NONSGML v1.0//EN
CALSCALE:GREGORIAN
METHOD:PUBLISH
X-WR-CALNAME:Calendario de Eventos Gran Canaria
X-ORIGINAL-URL:https://calendarioeventos.com/en
X-WR-CALDESC:Events for Calendario de Eventos Gran Canaria
REFRESH-INTERVAL;VALUE=DURATION:PT1H
X-Robots-Tag:noindex
X-PUBLISHED-TTL:PT1H
BEGIN:VTIMEZONE
TZID:Europe/London
BEGIN:DAYLIGHT
TZOFFSETFROM:+0000
TZOFFSETTO:+0100
TZNAME:BST
DTSTART:20250330T010000
END:DAYLIGHT
BEGIN:STANDARD
TZOFFSETFROM:+0100
TZOFFSETTO:+0000
TZNAME:GMT
DTSTART:20251026T010000
END:STANDARD
BEGIN:DAYLIGHT
TZOFFSETFROM:+0000
TZOFFSETTO:+0100
TZNAME:BST
DTSTART:20260329T010000
END:DAYLIGHT
BEGIN:STANDARD
TZOFFSETFROM:+0100
TZOFFSETTO:+0000
TZNAME:GMT
DTSTART:20261025T010000
END:STANDARD
BEGIN:DAYLIGHT
TZOFFSETFROM:+0000
TZOFFSETTO:+0100
TZNAME:BST
DTSTART:20270328T010000
END:DAYLIGHT
BEGIN:STANDARD
TZOFFSETFROM:+0100
TZOFFSETTO:+0000
TZNAME:GMT
DTSTART:20271031T010000
END:STANDARD
END:VTIMEZONE
BEGIN:VEVENT
DTSTART;TZID=Europe/London:20260123T183000
DTEND;TZID=Europe/London:20260123T200000
DTSTAMP:20260421T034103
CREATED:20251225T194619Z
LAST-MODIFIED:20260107T120954Z
UID:47404-1769193000-1769198400@calendarioeventos.com
SUMMARY:Circo - Ambulant
DESCRIPTION:Circo «Ambulant» en el Auditorio de Teror\, Gran Canaria. \nAmbulant» es un espectáculo de circo de gran formato que rinde homenaje a los circos clásicos del siglo XX. La obra sigue a una compañía circense itinerante que llega a una ciudad en busca de un lugar para instalar su carpa. El espectáculo combina música en vivo\, una elaborada puesta en escena y diversas disciplinas circenses como malabares\, barra fija\, rueda cyr y clown\, con una atmósfera poética e intimista. \nLa trama se centra en la vida cotidiana de esta compañía\, mostrando las relaciones entre sus miembros\, sus enamoramientos\, discusiones\, bailes y juegos. El espectáculo explora la idea del «viaje a ninguna parte» a través de la experiencia de este circo ambulante \nMODALIDAD: Circo/Infantil. \nDURACIÓN: 75 minutos \nEDAD RECOMENDADA: Todos los públicos. \nEntradas en este enlace
URL:https://calendarioeventos.com/en/evento/circo-ambulant/
LOCATION:Auditorio de Teror\, Plaza de Sintes\, s/n\, 35330 Teror\, Las Palmas
CATEGORIES:Circo,Entretenimiento,Infantil,Teatro,Teror
ATTACH;FMTTYPE=image/jpeg:https://calendarioeventos.com/wp-content/uploads/2025/12/18_AMBULANT.avif
END:VEVENT
END:VCALENDAR