BEGIN:VCALENDAR
VERSION:2.0
PRODID:-//Calendario de Eventos Gran Canaria - ECPv6.15.17.1//NONSGML v1.0//EN
CALSCALE:GREGORIAN
METHOD:PUBLISH
X-WR-CALNAME:Calendario de Eventos Gran Canaria
X-ORIGINAL-URL:https://calendarioeventos.com/en
X-WR-CALDESC:Events for Calendario de Eventos Gran Canaria
REFRESH-INTERVAL;VALUE=DURATION:PT1H
X-Robots-Tag:noindex
X-PUBLISHED-TTL:PT1H
BEGIN:VTIMEZONE
TZID:Europe/London
BEGIN:DAYLIGHT
TZOFFSETFROM:+0000
TZOFFSETTO:+0100
TZNAME:BST
DTSTART:20250330T010000
END:DAYLIGHT
BEGIN:STANDARD
TZOFFSETFROM:+0100
TZOFFSETTO:+0000
TZNAME:GMT
DTSTART:20251026T010000
END:STANDARD
BEGIN:DAYLIGHT
TZOFFSETFROM:+0000
TZOFFSETTO:+0100
TZNAME:BST
DTSTART:20260329T010000
END:DAYLIGHT
BEGIN:STANDARD
TZOFFSETFROM:+0100
TZOFFSETTO:+0000
TZNAME:GMT
DTSTART:20261025T010000
END:STANDARD
BEGIN:DAYLIGHT
TZOFFSETFROM:+0000
TZOFFSETTO:+0100
TZNAME:BST
DTSTART:20270328T010000
END:DAYLIGHT
BEGIN:STANDARD
TZOFFSETFROM:+0100
TZOFFSETTO:+0000
TZNAME:GMT
DTSTART:20271031T010000
END:STANDARD
END:VTIMEZONE
BEGIN:VEVENT
DTSTART;TZID=Europe/London:20260305T200000
DTEND;TZID=Europe/London:20260305T213000
DTSTAMP:20260423T191124
CREATED:20260222T153458Z
LAST-MODIFIED:20260222T153458Z
UID:60730-1772740800-1772746200@calendarioeventos.com
SUMMARY:Clásica - «La Pasión según San Juan (TOP 5)»
DESCRIPTION:Concierto — «La Pasión según San Juan (TOP 5)» en el Auditorio Alfredo Kraus\, Las Palmas de Gran Canaria. \nKarel Mark Chichon realiza una gran apuesta por el repertorio sinfónico-coral con la interpretación del oratorio de Bach. Esta versión ‘TOP 5’ destaca los pasajes más sublimes de la obra\, interpretados por la Orquesta Filarmónica de Gran Canaria como parte de su concierto de abono 12. \nEntradas en este enlace: https://auditorioalfredokraus.es/evento/la-pasion-segun-san-juan-top-5/2762
URL:https://calendarioeventos.com/en/evento/clasica-la-pasion-segun-san-juan-top-5/
LOCATION:Auditorio Alfredo Kraus\, Avda\, Ctra. del Rincón\, s/n\, 35010 Las Palmas de Gran Canaria\, Las Palmas
CATEGORIES:Clásica,Concierto,Cultura,Las Palmas de GC
ATTACH;FMTTYPE=image/jpeg:https://calendarioeventos.com/wp-content/uploads/2026/02/699b1c6e96801-uQ84Bg.avif
END:VEVENT
END:VCALENDAR