BEGIN:VCALENDAR
VERSION:2.0
PRODID:-//Calendario de Eventos Gran Canaria - ECPv6.15.17.1//NONSGML v1.0//EN
CALSCALE:GREGORIAN
METHOD:PUBLISH
X-WR-CALNAME:Calendario de Eventos Gran Canaria
X-ORIGINAL-URL:https://calendarioeventos.com/en
X-WR-CALDESC:Events for Calendario de Eventos Gran Canaria
REFRESH-INTERVAL;VALUE=DURATION:PT1H
X-Robots-Tag:noindex
X-PUBLISHED-TTL:PT1H
BEGIN:VTIMEZONE
TZID:Europe/London
BEGIN:DAYLIGHT
TZOFFSETFROM:+0000
TZOFFSETTO:+0100
TZNAME:BST
DTSTART:20240331T010000
END:DAYLIGHT
BEGIN:STANDARD
TZOFFSETFROM:+0100
TZOFFSETTO:+0000
TZNAME:GMT
DTSTART:20241027T010000
END:STANDARD
BEGIN:DAYLIGHT
TZOFFSETFROM:+0000
TZOFFSETTO:+0100
TZNAME:BST
DTSTART:20250330T010000
END:DAYLIGHT
BEGIN:STANDARD
TZOFFSETFROM:+0100
TZOFFSETTO:+0000
TZNAME:GMT
DTSTART:20251026T010000
END:STANDARD
BEGIN:DAYLIGHT
TZOFFSETFROM:+0000
TZOFFSETTO:+0100
TZNAME:BST
DTSTART:20260329T010000
END:DAYLIGHT
BEGIN:STANDARD
TZOFFSETFROM:+0100
TZOFFSETTO:+0000
TZNAME:GMT
DTSTART:20261025T010000
END:STANDARD
END:VTIMEZONE
BEGIN:VEVENT
DTSTART;TZID=Europe/London:20251217T170000
DTEND;TZID=Europe/London:20251217T190000
DTSTAMP:20260425T184527
CREATED:20251213T103455Z
LAST-MODIFIED:20251213T103455Z
UID:43296-1765990800-1765998000@calendarioeventos.com
SUMMARY:Club de lectura de Casa África: "Ève de entre sus escombros"\, de Ananda Devi
DESCRIPTION:Club de lectura con «Ève de entre sus escombros»\, de Ananda Devi» que tendrá lugar en Casa África u otro lugar por definir de Gran Canaria y online.\n\nSe hablará del libro «Ève de entre sus escombros«\, de Ananda Devi.\n\nHay 27 ebooks en la plataforma Ebiblio y lista de espera para cinco ejemplares en papel\, a la que pueden sumarse enviando un correo a los corres de ecalcines@casafrica.es y lbetancor@casafrica.es. Si no saben cómo funciona la plataforma para descargarse el libro\, también.\n\n\n\nLa información de la reunión online es la siguiente:\n\n________________________________________________________________________________\n\nMicrosoft Teams Need help?\nJoin the meeting now\nMeeting ID: 314 007 097 432\nPasscode: A2hX37sN
URL:https://calendarioeventos.com/en/evento/club-de-lectura-de-casa-africa-eve-de-entre-sus-escombros-de-ananda-devi/
LOCATION:Casa África\, C/ Alfonso XIII\, 5\, Las Palmas de Gran Canaria\, Las Palmas de Gran Canaria\, 35003\, Spain
CATEGORIES:Cultura,Eventos gratuitos,Las Palmas de GC,Literatura
END:VEVENT
END:VCALENDAR