BEGIN:VCALENDAR
VERSION:2.0
PRODID:-//Calendario de Eventos Gran Canaria - ECPv6.15.17.1//NONSGML v1.0//EN
CALSCALE:GREGORIAN
METHOD:PUBLISH
X-WR-CALNAME:Calendario de Eventos Gran Canaria
X-ORIGINAL-URL:https://calendarioeventos.com/en
X-WR-CALDESC:Events for Calendario de Eventos Gran Canaria
REFRESH-INTERVAL;VALUE=DURATION:PT1H
X-Robots-Tag:noindex
X-PUBLISHED-TTL:PT1H
BEGIN:VTIMEZONE
TZID:Europe/London
BEGIN:DAYLIGHT
TZOFFSETFROM:+0000
TZOFFSETTO:+0100
TZNAME:BST
DTSTART:20240331T010000
END:DAYLIGHT
BEGIN:STANDARD
TZOFFSETFROM:+0100
TZOFFSETTO:+0000
TZNAME:GMT
DTSTART:20241027T010000
END:STANDARD
BEGIN:DAYLIGHT
TZOFFSETFROM:+0000
TZOFFSETTO:+0100
TZNAME:BST
DTSTART:20250330T010000
END:DAYLIGHT
BEGIN:STANDARD
TZOFFSETFROM:+0100
TZOFFSETTO:+0000
TZNAME:GMT
DTSTART:20251026T010000
END:STANDARD
BEGIN:DAYLIGHT
TZOFFSETFROM:+0000
TZOFFSETTO:+0100
TZNAME:BST
DTSTART:20260329T010000
END:DAYLIGHT
BEGIN:STANDARD
TZOFFSETFROM:+0100
TZOFFSETTO:+0000
TZNAME:GMT
DTSTART:20261025T010000
END:STANDARD
END:VTIMEZONE
BEGIN:VEVENT
DTSTART;TZID=Europe/London:20251112T200000
DTEND;TZID=Europe/London:20251112T220000
DTSTAMP:20260419T185234
CREATED:20251027T115340Z
LAST-MODIFIED:20251027T115340Z
UID:25904-1762977600-1762984800@calendarioeventos.com
SUMMARY:Concierto - 180 Aniversario. Sociedad Filarmónica
DESCRIPTION:Concierto – 180 Aniversario. Sociedad Filarmónica de Las Palmas de Gran Canaria en el Teatro Pérez Galdós\, Las Palmas de Gran Canaria. \nCelebramos 180 años de música de la Sociedad Filarmónica de Las Palmas de Gran Canaria con un concierto único en el Teatro Pérez Galdós. Al Quinteto de Cuerda de Gran Canaria\, dirigido por Dionisio Rodríguez\, se une al pianista Víctor Naranjo y la soprano Magdalena Padilla en una velada que rinde homenaje a la historia de esta Sociedad Filarmónica de Las Palmas de Gran Canaria. Obras de compositores canarios y franceses sonarán en esta cita que combina elegancia\, emoción y legado. \nEntradas en este enlace.
URL:https://calendarioeventos.com/en/evento/concierto-180-aniversario-sociedad-filarmonica/
LOCATION:Teatro Pérez Galdós\, Plaza de Stagno\, 35002 Las Palmas de Gran Canaria\, Las Palmas
CATEGORIES:Concierto,Cultura,Las Palmas de GC
ATTACH;FMTTYPE=image/jpeg:https://calendarioeventos.com/wp-content/uploads/2025/10/0-16.avif
END:VEVENT
END:VCALENDAR