BEGIN:VCALENDAR
VERSION:2.0
PRODID:-//Calendario de Eventos Gran Canaria - ECPv6.15.17.1//NONSGML v1.0//EN
CALSCALE:GREGORIAN
METHOD:PUBLISH
X-WR-CALNAME:Calendario de Eventos Gran Canaria
X-ORIGINAL-URL:https://calendarioeventos.com/en
X-WR-CALDESC:Events for Calendario de Eventos Gran Canaria
REFRESH-INTERVAL;VALUE=DURATION:PT1H
X-Robots-Tag:noindex
X-PUBLISHED-TTL:PT1H
BEGIN:VTIMEZONE
TZID:Europe/London
BEGIN:DAYLIGHT
TZOFFSETFROM:+0000
TZOFFSETTO:+0100
TZNAME:BST
DTSTART:20250330T010000
END:DAYLIGHT
BEGIN:STANDARD
TZOFFSETFROM:+0100
TZOFFSETTO:+0000
TZNAME:GMT
DTSTART:20251026T010000
END:STANDARD
BEGIN:DAYLIGHT
TZOFFSETFROM:+0000
TZOFFSETTO:+0100
TZNAME:BST
DTSTART:20260329T010000
END:DAYLIGHT
BEGIN:STANDARD
TZOFFSETFROM:+0100
TZOFFSETTO:+0000
TZNAME:GMT
DTSTART:20261025T010000
END:STANDARD
BEGIN:DAYLIGHT
TZOFFSETFROM:+0000
TZOFFSETTO:+0100
TZNAME:BST
DTSTART:20270328T010000
END:DAYLIGHT
BEGIN:STANDARD
TZOFFSETFROM:+0100
TZOFFSETTO:+0000
TZNAME:GMT
DTSTART:20271031T010000
END:STANDARD
END:VTIMEZONE
BEGIN:VEVENT
DTSTART;TZID=Europe/London:20260124T203000
DTEND;TZID=Europe/London:20260124T220000
DTSTAMP:20260421T055915
CREATED:20260122T164525Z
LAST-MODIFIED:20260122T164525Z
UID:52850-1769286600-1769292000@calendarioeventos.com
SUMMARY:Concierto - 25 Años de Parranda
DESCRIPTION:Concierto – «25 Años de Parranda» de la Parranda del Medio Jigo pa’l Kilo en el Teatro Cronista Oficial «Jacinto Suárez Martel» de Valsequillo\, Gran Canaria. \nLa Parranda del Medio Jigo Pa’l Kilo cumple un cuarto de siglo llevando la música canaria\, compartiendo tradiciones y creando momentos inolvidables…\n¡y queremos celebrarlo contigo! \nSerá una noche muy especial\, cargada de música canaria\, emoción y muchas sorpresas. \n 
URL:https://calendarioeventos.com/en/evento/concierto-25-anos-de-parranda/
LOCATION:Teatro C.O. Jacinto Suárez Martel\, 35217 Valsequillo de Gran Canaria\, Las Palmas
CATEGORIES:Concierto,Cultura,Documental,Eventos gratuitos,Música,Valsequillo
ATTACH;FMTTYPE=image/png:https://calendarioeventos.com/wp-content/uploads/2026/01/Screenshot-2026-01-22-at-16-44-55-Cuarta-Semana-•-Instagram.avif
END:VEVENT
END:VCALENDAR