BEGIN:VCALENDAR
VERSION:2.0
PRODID:-//Calendario de Eventos Gran Canaria - ECPv6.15.17.1//NONSGML v1.0//EN
CALSCALE:GREGORIAN
METHOD:PUBLISH
X-WR-CALNAME:Calendario de Eventos Gran Canaria
X-ORIGINAL-URL:https://calendarioeventos.com/en
X-WR-CALDESC:Events for Calendario de Eventos Gran Canaria
REFRESH-INTERVAL;VALUE=DURATION:PT1H
X-Robots-Tag:noindex
X-PUBLISHED-TTL:PT1H
BEGIN:VTIMEZONE
TZID:Europe/London
BEGIN:DAYLIGHT
TZOFFSETFROM:+0000
TZOFFSETTO:+0100
TZNAME:BST
DTSTART:20250330T010000
END:DAYLIGHT
BEGIN:STANDARD
TZOFFSETFROM:+0100
TZOFFSETTO:+0000
TZNAME:GMT
DTSTART:20251026T010000
END:STANDARD
BEGIN:DAYLIGHT
TZOFFSETFROM:+0000
TZOFFSETTO:+0100
TZNAME:BST
DTSTART:20260329T010000
END:DAYLIGHT
BEGIN:STANDARD
TZOFFSETFROM:+0100
TZOFFSETTO:+0000
TZNAME:GMT
DTSTART:20261025T010000
END:STANDARD
BEGIN:DAYLIGHT
TZOFFSETFROM:+0000
TZOFFSETTO:+0100
TZNAME:BST
DTSTART:20270328T010000
END:DAYLIGHT
BEGIN:STANDARD
TZOFFSETFROM:+0100
TZOFFSETTO:+0000
TZNAME:GMT
DTSTART:20271031T010000
END:STANDARD
END:VTIMEZONE
BEGIN:VEVENT
DTSTART;TZID=Europe/London:20260313T200000
DTEND;TZID=Europe/London:20260313T213000
DTSTAMP:20260423T111343
CREATED:20260225T231110Z
LAST-MODIFIED:20260225T231112Z
UID:62131-1773432000-1773437400@calendarioeventos.com
SUMMARY:Concierto - «Ad libitum»
DESCRIPTION:Concierto — «Ad libitum» en el Teatro Guiniguada\, Las Palmas de Gran Canaria. \nLa cantante y clarinetista galdense Ana Gil presenta el viernes 13 de marzo en el Teatro Guiniguada su espectáculo ‘Ad libitum’. \nAcompañada por un quinteto de cuerdas en directo\, Gil ofrecerá una serie de arreglos originales sobre diferentes temas musicales latinoamericanos y canciones de autor. El repertorio incluye versiones de ‘La vie en rose’\, ‘Promesas de arena’\, ‘María se bebe las calles’ o ‘Tú sí sabes quererme’\, que se alternarán con composiciones propias. \nEntradas en este enlace
URL:https://calendarioeventos.com/en/evento/concierto-ad-libitum/
LOCATION:Teatro Guiniguada\, C. Mesa de León\, 2\, 35001 Las Palmas de Gran Canaria\, Las Palmas
CATEGORIES:Concierto,Cultura,Las Palmas de GC
ATTACH;FMTTYPE=image/jpeg:https://calendarioeventos.com/wp-content/uploads/2026/02/concierto-ad-libitum-1772061068970.avif
END:VEVENT
END:VCALENDAR