BEGIN:VCALENDAR
VERSION:2.0
PRODID:-//Calendario de Eventos Gran Canaria - ECPv6.15.17.1//NONSGML v1.0//EN
CALSCALE:GREGORIAN
METHOD:PUBLISH
X-WR-CALNAME:Calendario de Eventos Gran Canaria
X-ORIGINAL-URL:https://calendarioeventos.com/en
X-WR-CALDESC:Events for Calendario de Eventos Gran Canaria
REFRESH-INTERVAL;VALUE=DURATION:PT1H
X-Robots-Tag:noindex
X-PUBLISHED-TTL:PT1H
BEGIN:VTIMEZONE
TZID:Europe/London
BEGIN:DAYLIGHT
TZOFFSETFROM:+0000
TZOFFSETTO:+0100
TZNAME:BST
DTSTART:20240331T010000
END:DAYLIGHT
BEGIN:STANDARD
TZOFFSETFROM:+0100
TZOFFSETTO:+0000
TZNAME:GMT
DTSTART:20241027T010000
END:STANDARD
BEGIN:DAYLIGHT
TZOFFSETFROM:+0000
TZOFFSETTO:+0100
TZNAME:BST
DTSTART:20250330T010000
END:DAYLIGHT
BEGIN:STANDARD
TZOFFSETFROM:+0100
TZOFFSETTO:+0000
TZNAME:GMT
DTSTART:20251026T010000
END:STANDARD
BEGIN:DAYLIGHT
TZOFFSETFROM:+0000
TZOFFSETTO:+0100
TZNAME:BST
DTSTART:20260329T010000
END:DAYLIGHT
BEGIN:STANDARD
TZOFFSETFROM:+0100
TZOFFSETTO:+0000
TZNAME:GMT
DTSTART:20261025T010000
END:STANDARD
END:VTIMEZONE
BEGIN:VEVENT
DTSTART;TZID=Europe/London:20251109T190000
DTEND;TZID=Europe/London:20251109T203000
DTSTAMP:20260419T225141
CREATED:20251106T155120Z
LAST-MODIFIED:20251106T155120Z
UID:30378-1762714800-1762720200@calendarioeventos.com
SUMMARY:Concierto – Ancor Miranda Quartet
DESCRIPTION:Concierto de Ancor Miranda Quartet y Deriva Jazza Jam en Sala Faro\, Las Palmas de Gran Canaria. \n@ancormiranda_music – batería y composiciones\n@tanasantana – contrabajo\n@joseverabello – saxo tenor\nIdafe Pérez – trompeta \nEntradas en este enlace. \n 
URL:https://calendarioeventos.com/en/evento/concierto-ancor-miranda-quartet/
LOCATION:Sala Faro\, C. Concejal Manuel Rodríguez Costas\, 18\, 35009 Las Palmas de Gran Canaria\, Las Palmas
CATEGORIES:Concierto,Cultura,Las Palmas de GC,Música,Municipio
ATTACH;FMTTYPE=image/png:https://calendarioeventos.com/wp-content/uploads/2025/11/Screenshot-2025-11-06-at-15-48-41-Instagram.avif
END:VEVENT
END:VCALENDAR