BEGIN:VCALENDAR
VERSION:2.0
PRODID:-//Calendario de Eventos Gran Canaria - ECPv6.15.17.1//NONSGML v1.0//EN
CALSCALE:GREGORIAN
METHOD:PUBLISH
X-WR-CALNAME:Calendario de Eventos Gran Canaria
X-ORIGINAL-URL:https://calendarioeventos.com/en
X-WR-CALDESC:Events for Calendario de Eventos Gran Canaria
REFRESH-INTERVAL;VALUE=DURATION:PT1H
X-Robots-Tag:noindex
X-PUBLISHED-TTL:PT1H
BEGIN:VTIMEZONE
TZID:Europe/London
BEGIN:DAYLIGHT
TZOFFSETFROM:+0000
TZOFFSETTO:+0100
TZNAME:BST
DTSTART:20250330T010000
END:DAYLIGHT
BEGIN:STANDARD
TZOFFSETFROM:+0100
TZOFFSETTO:+0000
TZNAME:GMT
DTSTART:20251026T010000
END:STANDARD
BEGIN:DAYLIGHT
TZOFFSETFROM:+0000
TZOFFSETTO:+0100
TZNAME:BST
DTSTART:20260329T010000
END:DAYLIGHT
BEGIN:STANDARD
TZOFFSETFROM:+0100
TZOFFSETTO:+0000
TZNAME:GMT
DTSTART:20261025T010000
END:STANDARD
BEGIN:DAYLIGHT
TZOFFSETFROM:+0000
TZOFFSETTO:+0100
TZNAME:BST
DTSTART:20270328T010000
END:DAYLIGHT
BEGIN:STANDARD
TZOFFSETFROM:+0100
TZOFFSETTO:+0000
TZNAME:GMT
DTSTART:20271031T010000
END:STANDARD
END:VTIMEZONE
BEGIN:VEVENT
DTSTART;TZID=Europe/London:20260117T200000
DTEND;TZID=Europe/London:20260117T213000
DTSTAMP:20260423T112005
CREATED:20251223T103337Z
LAST-MODIFIED:20251223T103337Z
UID:10012115-1768680000-1768685400@calendarioeventos.com
SUMMARY:Concierto - Antología de La Zarzuela
DESCRIPTION:Concierto «Antología de La Zarzuela» en el Auditorio Alfredo Kraus\, Las Palmas de Gran Canaria \n‘Antología de La Zarzuela’ sube a más de medio centenar de artistas al escenario: solistas\, actores\, coro\, ballet\, escenografía\, decorados y orquesta en directo para llevar a lo más alto el género de la zarzuela. \nEntradas en este enlace. \n\nAntología de La Zarzuela reúne tres siglos de cultura española en una producción lírica inigualable. Las mejores romanzas\, dúos\, coros\, intermedios y danzas de las zarzuelas más tradicionales y representativas con la música inmortal de los compositores Barbieri\, Chueca\, Sorozábal\, Chapí\, Caballero\, Jiménez\, Alonso Serrano y Moreno Torroba\, entre otros. \nUn despliegue de música\, luz y color en un espectáculo repleto de exquisitos detalles. Un manantial de sensaciones que atrapa al espectador de principio a fin. \nEl cuidado vestuario y la escenografía atractiva convierten la selección musical de la obra en un espectáculo brillante y penetrante.
URL:https://calendarioeventos.com/en/evento/concierto-antologia-de-la-zarzuela/2026-01-17/
LOCATION:Auditorio Alfredo Kraus\, Avda\, Ctra. del Rincón\, s/n\, 35010 Las Palmas de Gran Canaria\, Las Palmas
CATEGORIES:Concierto,Cultura,Las Palmas de GC,Música
ATTACH;FMTTYPE=image/jpeg:https://calendarioeventos.com/wp-content/uploads/2025/12/0-7.avif
END:VEVENT
END:VCALENDAR