BEGIN:VCALENDAR
VERSION:2.0
PRODID:-//Calendario de Eventos Gran Canaria - ECPv6.15.17.1//NONSGML v1.0//EN
CALSCALE:GREGORIAN
METHOD:PUBLISH
X-WR-CALNAME:Calendario de Eventos Gran Canaria
X-ORIGINAL-URL:https://calendarioeventos.com/en
X-WR-CALDESC:Events for Calendario de Eventos Gran Canaria
REFRESH-INTERVAL;VALUE=DURATION:PT1H
X-Robots-Tag:noindex
X-PUBLISHED-TTL:PT1H
BEGIN:VTIMEZONE
TZID:Europe/London
BEGIN:DAYLIGHT
TZOFFSETFROM:+0000
TZOFFSETTO:+0100
TZNAME:BST
DTSTART:20240331T010000
END:DAYLIGHT
BEGIN:STANDARD
TZOFFSETFROM:+0100
TZOFFSETTO:+0000
TZNAME:GMT
DTSTART:20241027T010000
END:STANDARD
BEGIN:DAYLIGHT
TZOFFSETFROM:+0000
TZOFFSETTO:+0100
TZNAME:BST
DTSTART:20250330T010000
END:DAYLIGHT
BEGIN:STANDARD
TZOFFSETFROM:+0100
TZOFFSETTO:+0000
TZNAME:GMT
DTSTART:20251026T010000
END:STANDARD
BEGIN:DAYLIGHT
TZOFFSETFROM:+0000
TZOFFSETTO:+0100
TZNAME:BST
DTSTART:20260329T010000
END:DAYLIGHT
BEGIN:STANDARD
TZOFFSETFROM:+0100
TZOFFSETTO:+0000
TZNAME:GMT
DTSTART:20261025T010000
END:STANDARD
END:VTIMEZONE
BEGIN:VEVENT
DTSTART;TZID=Europe/London:20251219T230000
DTEND;TZID=Europe/London:20251220T003000
DTSTAMP:20260425T154619
CREATED:20250728T230000Z
LAST-MODIFIED:20251211T140118Z
UID:7496-1766185200-1766190600@calendarioeventos.com
SUMMARY:Concierto - Äriete
DESCRIPTION:Concierto Baires – Äriete en Buenos Aires Jazz Café\, Las Palmas de Gran Canaria. \n\nÄriete es el proyecto compositivo de Jose Antonio Risco. \nBebe del género Rock\, desde baladas\, indie\, Stoner y alternativo\, cuyas letras tratan de amor\, la crítica política y el valor de la amistad. \nLa banda está formada por el fundador y su círculo de amigos. Su temas abiertos a reconversiones y reinterpretaciones se erigen bajo el concepto de “banda abierta”\, en la que cada artista aporta su sello de identidad. \nEntradas en este enlace.
URL:https://calendarioeventos.com/en/evento/concierto-ariete/
LOCATION:Buenos Aires Jazz Cafe\, C. Mendizábal\, 37\, 35001 Las Palmas de Gran Canaria\, Las Palmas
CATEGORIES:Concierto,Cultura,Las Palmas de GC,Música,Municipio
ATTACH;FMTTYPE=image/jpeg:https://calendarioeventos.com/wp-content/uploads/2025/07/NUEVO-POST-EVENTOS-26.avif
END:VEVENT
END:VCALENDAR