BEGIN:VCALENDAR
VERSION:2.0
PRODID:-//Calendario de Eventos Gran Canaria - ECPv6.15.17.1//NONSGML v1.0//EN
CALSCALE:GREGORIAN
METHOD:PUBLISH
X-WR-CALNAME:Calendario de Eventos Gran Canaria
X-ORIGINAL-URL:https://calendarioeventos.com/en
X-WR-CALDESC:Events for Calendario de Eventos Gran Canaria
REFRESH-INTERVAL;VALUE=DURATION:PT1H
X-Robots-Tag:noindex
X-PUBLISHED-TTL:PT1H
BEGIN:VTIMEZONE
TZID:Europe/London
BEGIN:DAYLIGHT
TZOFFSETFROM:+0000
TZOFFSETTO:+0100
TZNAME:BST
DTSTART:20240331T010000
END:DAYLIGHT
BEGIN:STANDARD
TZOFFSETFROM:+0100
TZOFFSETTO:+0000
TZNAME:GMT
DTSTART:20241027T010000
END:STANDARD
BEGIN:DAYLIGHT
TZOFFSETFROM:+0000
TZOFFSETTO:+0100
TZNAME:BST
DTSTART:20250330T010000
END:DAYLIGHT
BEGIN:STANDARD
TZOFFSETFROM:+0100
TZOFFSETTO:+0000
TZNAME:GMT
DTSTART:20251026T010000
END:STANDARD
BEGIN:DAYLIGHT
TZOFFSETFROM:+0000
TZOFFSETTO:+0100
TZNAME:BST
DTSTART:20260329T010000
END:DAYLIGHT
BEGIN:STANDARD
TZOFFSETFROM:+0100
TZOFFSETTO:+0000
TZNAME:GMT
DTSTART:20261025T010000
END:STANDARD
END:VTIMEZONE
BEGIN:VEVENT
DTSTART;TZID=Europe/London:20251219T200000
DTEND;TZID=Europe/London:20251219T213000
DTSTAMP:20260425T155523
CREATED:20251127T171039Z
LAST-MODIFIED:20251127T171039Z
UID:38123-1766174400-1766179800@calendarioeventos.com
SUMMARY:Concierto - Ars Movie Project
DESCRIPTION:Concierto de Navidad con Ars Movie Project en el Centro Atlántico de Arte Moderno\, Las Palmas de GC\, Gran Canaria. \nConcierto de Navidad que protagonizará el grupo Ars Movie Project\, integrado por la cantante Ada Rapisarda Santana y la violinista Ada Santana Aday\, que centra su actividad en los grandes éxitos de la historia del cine\, desde sus comienzos hasta hoy en día\, con unos arreglos contemporáneos que consiguen aunar diferentes estilos musicales\, desde el jazz al pop\, pasando por la música clásica o el rock\, logrando crear un ambiente mágico en cada uno de sus conciertos. \nEntrada libre hasta completar aforo.
URL:https://calendarioeventos.com/en/evento/concierto-ars-movie-project/
LOCATION:CAAM – Centro Atlántico de Arte Moderno\, C. los Balcones\, 11\, 35001 Las Palmas de Gran Canaria\, Las Palmas
CATEGORIES:Concierto,Cultura,Eventos gratuitos,Las Palmas de GC
ATTACH;FMTTYPE=image/png:https://calendarioeventos.com/wp-content/uploads/2025/11/Screenshot-2025-11-27-at-17-10-10-Agenda_Cultural_Cabildo_de_Gran_Canaria.pdf.avif
END:VEVENT
END:VCALENDAR