BEGIN:VCALENDAR
VERSION:2.0
PRODID:-//Calendario de Eventos Gran Canaria - ECPv6.15.17.1//NONSGML v1.0//EN
CALSCALE:GREGORIAN
METHOD:PUBLISH
X-WR-CALNAME:Calendario de Eventos Gran Canaria
X-ORIGINAL-URL:https://calendarioeventos.com/en
X-WR-CALDESC:Events for Calendario de Eventos Gran Canaria
REFRESH-INTERVAL;VALUE=DURATION:PT1H
X-Robots-Tag:noindex
X-PUBLISHED-TTL:PT1H
BEGIN:VTIMEZONE
TZID:Europe/London
BEGIN:DAYLIGHT
TZOFFSETFROM:+0000
TZOFFSETTO:+0100
TZNAME:BST
DTSTART:20250330T010000
END:DAYLIGHT
BEGIN:STANDARD
TZOFFSETFROM:+0100
TZOFFSETTO:+0000
TZNAME:GMT
DTSTART:20251026T010000
END:STANDARD
BEGIN:DAYLIGHT
TZOFFSETFROM:+0000
TZOFFSETTO:+0100
TZNAME:BST
DTSTART:20260329T010000
END:DAYLIGHT
BEGIN:STANDARD
TZOFFSETFROM:+0100
TZOFFSETTO:+0000
TZNAME:GMT
DTSTART:20261025T010000
END:STANDARD
BEGIN:DAYLIGHT
TZOFFSETFROM:+0000
TZOFFSETTO:+0100
TZNAME:BST
DTSTART:20270328T010000
END:DAYLIGHT
BEGIN:STANDARD
TZOFFSETFROM:+0100
TZOFFSETTO:+0000
TZNAME:GMT
DTSTART:20271031T010000
END:STANDARD
END:VTIMEZONE
BEGIN:VEVENT
DTSTART;TZID=Europe/London:20260226T200000
DTEND;TZID=Europe/London:20260226T213000
DTSTAMP:20260421T022129
CREATED:20260129T101850Z
LAST-MODIFIED:20260129T101850Z
UID:54819-1772136000-1772141400@calendarioeventos.com
SUMMARY:Concierto - Buchbinder & Mozart
DESCRIPTION:Concierto «Buchbinder & Mozart» en el Auditorio Alfredo Kraus\, Las Palmas de Gran Canaria. \nOrquesta Filarmónica de Gran Canaria – Concierto de abono 11 \nRudolf Buchbinder vuelve a la temporada en su doble faceta de director y solista para ofrecer una velada mozartiana. Disfrutaremos de tres conciertos que recorren el mundo expresivo de Mozart\, verdadera cumbre del Clasicismo: desde el prebeethoveniano nº 20\, con su atmósfera doliente\, la luminosidad del nº 21 y la serna madurez del nº 27\, última de esta incomparable serie. Una experiencia de comunión entre intérprete\, instrumento y orquesta al más puro estilo clásico. \nEntradas en este enlace. \n\n 
URL:https://calendarioeventos.com/en/evento/concierto-buchbinder-mozart/
LOCATION:Auditorio Alfredo Kraus\, Avda\, Ctra. del Rincón\, s/n\, 35010 Las Palmas de Gran Canaria\, Las Palmas
CATEGORIES:Concierto,Cultura,Las Palmas de GC,Música
ATTACH;FMTTYPE=image/jpeg:https://calendarioeventos.com/wp-content/uploads/2026/01/0-6.avif
END:VEVENT
END:VCALENDAR