BEGIN:VCALENDAR
VERSION:2.0
PRODID:-//Calendario de Eventos Gran Canaria - ECPv6.15.17.1//NONSGML v1.0//EN
CALSCALE:GREGORIAN
METHOD:PUBLISH
X-WR-CALNAME:Calendario de Eventos Gran Canaria
X-ORIGINAL-URL:https://calendarioeventos.com/en
X-WR-CALDESC:Events for Calendario de Eventos Gran Canaria
REFRESH-INTERVAL;VALUE=DURATION:PT1H
X-Robots-Tag:noindex
X-PUBLISHED-TTL:PT1H
BEGIN:VTIMEZONE
TZID:Europe/London
BEGIN:DAYLIGHT
TZOFFSETFROM:+0000
TZOFFSETTO:+0100
TZNAME:BST
DTSTART:20250330T010000
END:DAYLIGHT
BEGIN:STANDARD
TZOFFSETFROM:+0100
TZOFFSETTO:+0000
TZNAME:GMT
DTSTART:20251026T010000
END:STANDARD
BEGIN:DAYLIGHT
TZOFFSETFROM:+0000
TZOFFSETTO:+0100
TZNAME:BST
DTSTART:20260329T010000
END:DAYLIGHT
BEGIN:STANDARD
TZOFFSETFROM:+0100
TZOFFSETTO:+0000
TZNAME:GMT
DTSTART:20261025T010000
END:STANDARD
BEGIN:DAYLIGHT
TZOFFSETFROM:+0000
TZOFFSETTO:+0100
TZNAME:BST
DTSTART:20270328T010000
END:DAYLIGHT
BEGIN:STANDARD
TZOFFSETFROM:+0100
TZOFFSETTO:+0000
TZNAME:GMT
DTSTART:20271031T010000
END:STANDARD
END:VTIMEZONE
BEGIN:VEVENT
DTSTART;TZID=Europe/London:20260114T213000
DTEND;TZID=Europe/London:20260114T223000
DTSTAMP:20260423T151939
CREATED:20250521T230000Z
LAST-MODIFIED:20251225T113158Z
UID:10012633-1768426200-1768429800@calendarioeventos.com
SUMMARY:Concierto - Candlelight: Anillos y Dragones
DESCRIPTION:Concierto – Candlelight: Anillos y Dragones en el Gabinete Literario de Las Palmas de Gran Canaria. \nDuración: 60 minutos (apertura de puertas 45 minutos antes\, no se podrá acceder tras el inicio) \nEdad: a partir de 8 años. Los menores de 16 años deberán acudir acompañados por un adulto \nAccesibilidad: recinto habilitado para personas en silla de ruedas. \nPrograma Candlelight: Anillos y Dragones \n\nTema principal – Juego de Tronos\nWinter is coming – Juego de Tronos\nReign of the Targaryens – La Casa del Dragón\nLight Of The Seven – Juego de Tronos\nFlaming Red Hair – El Señor de los Anillos\nRivendelll – El Señor de los Anillos\nGollum – El Señor de los Anillos\nThe Grace of Undomiel – El Señor de los Anillos\nThe Rains Of Castamere – Juego de Tronos\nFire & Blood – Juego de Tronos\nJon Snow – Juego de Tronos\nThe Passing Of The Elves – El Señor de los Anillos\nThe Caverns Of Isengard – El Señor de los Anillos\nThe Sacrifice Of Faramir – El Señor de los Anillos\nThe Lightning Of The Beacons – El Señor de los Anillos\nSaruman The White – El Señor de los Anillos\nThe Shire – El Señor de los Anillos\n\nIntérpretes \n\nCuarteto de cuerdas – Cuarteto Animus\n\n  \n  \n 
URL:https://calendarioeventos.com/en/evento/concierto-candlelight-anillos-y-dragones/2026-01-14/
LOCATION:Gabinete Literario\, Pl. de Cairasco\, 1\, 35002 Las Palmas de Gran Canaria\, Las Palmas
CATEGORIES:Concierto,Cultura,Las Palmas de GC,Música,Municipio
ATTACH;FMTTYPE=image/avif:https://calendarioeventos.com/wp-content/uploads/2025/09/03ee457c-1491-11f0-9786-127976d7aea8.avif
END:VEVENT
END:VCALENDAR