BEGIN:VCALENDAR
VERSION:2.0
PRODID:-//Calendario de Eventos Gran Canaria - ECPv6.15.17.1//NONSGML v1.0//EN
CALSCALE:GREGORIAN
METHOD:PUBLISH
X-WR-CALNAME:Calendario de Eventos Gran Canaria
X-ORIGINAL-URL:https://calendarioeventos.com/en
X-WR-CALDESC:Events for Calendario de Eventos Gran Canaria
REFRESH-INTERVAL;VALUE=DURATION:PT1H
X-Robots-Tag:noindex
X-PUBLISHED-TTL:PT1H
BEGIN:VTIMEZONE
TZID:Europe/London
BEGIN:DAYLIGHT
TZOFFSETFROM:+0000
TZOFFSETTO:+0100
TZNAME:BST
DTSTART:20250330T010000
END:DAYLIGHT
BEGIN:STANDARD
TZOFFSETFROM:+0100
TZOFFSETTO:+0000
TZNAME:GMT
DTSTART:20251026T010000
END:STANDARD
BEGIN:DAYLIGHT
TZOFFSETFROM:+0000
TZOFFSETTO:+0100
TZNAME:BST
DTSTART:20260329T010000
END:DAYLIGHT
BEGIN:STANDARD
TZOFFSETFROM:+0100
TZOFFSETTO:+0000
TZNAME:GMT
DTSTART:20261025T010000
END:STANDARD
BEGIN:DAYLIGHT
TZOFFSETFROM:+0000
TZOFFSETTO:+0100
TZNAME:BST
DTSTART:20270328T010000
END:DAYLIGHT
BEGIN:STANDARD
TZOFFSETFROM:+0100
TZOFFSETTO:+0000
TZNAME:GMT
DTSTART:20271031T010000
END:STANDARD
END:VTIMEZONE
BEGIN:VEVENT
DTSTART;TZID=Europe/London:20260121T193000
DTEND;TZID=Europe/London:20260121T203000
DTSTAMP:20260421T164237
CREATED:20251225T113627Z
LAST-MODIFIED:20251225T113627Z
UID:10012641-1769023800-1769027400@calendarioeventos.com
SUMMARY:Concierto - Candlelight: Los Mejor de Ennio Morricone
DESCRIPTION:Concierto – Candlelight: Los Mejor de Ennio Morricone en el Gabinete Literario de Las Palmas de Gran Canaria. \nDuración: 60 minutos (apertura de puertas 45 minutos antes\, no se podrá acceder tras el inicio) \nEdad: a partir de 8 años. Los menores de 16 años deberán acudir acompañados por un adulto \nAccesibilidad: recinto habilitado para personas en silla de ruedas. \nPrograma Tentativo \n\nRabbia e Tarantella – Inglorious Basterds\nTotò e Alfreddo – Cinema Paradiso\nLove Theme – Cinema Paradiso\nLa Vita è Bella – La Vita è Bella\nAmapola – Once Upon a Time in America\nSuite The Untouchables – The Untouchables\nOnce Upon a Time in the West Main Theme – Once Upon a Time in the West\nLa Califfa – La Califfa\nGabriel’s Oboe – The Mission\nAmarcord Theme – Amarcord\nLa Dolce Vita Theme – La Dolce Vita\nLes Beatitudes – La Grande Bellezza\nIl Padrino – Il Padrino\nL’Ultima Diligenza di Red Rock – The Hateful 8\n\nIntérpretes \n\n21 enero y 04 marzo: Cuarteto de cuerdas – Cuarteto Hemiolia\n\n  \n 
URL:https://calendarioeventos.com/en/evento/concierto-candlelight-los-mejor-de-ennio-morricone/2026-01-21/
LOCATION:Gabinete Literario\, Pl. de Cairasco\, 1\, 35002 Las Palmas de Gran Canaria\, Las Palmas
CATEGORIES:Concierto,Cultura,Las Palmas de GC,Música
ATTACH;FMTTYPE=image/avif:https://calendarioeventos.com/wp-content/uploads/2025/12/288be75a-514e-11f0-9421-9ed66d896fec.avif
END:VEVENT
END:VCALENDAR