BEGIN:VCALENDAR
VERSION:2.0
PRODID:-//Calendario de Eventos Gran Canaria - ECPv6.15.17.1//NONSGML v1.0//EN
CALSCALE:GREGORIAN
METHOD:PUBLISH
X-WR-CALNAME:Calendario de Eventos Gran Canaria
X-ORIGINAL-URL:https://calendarioeventos.com/en
X-WR-CALDESC:Events for Calendario de Eventos Gran Canaria
REFRESH-INTERVAL;VALUE=DURATION:PT1H
X-Robots-Tag:noindex
X-PUBLISHED-TTL:PT1H
BEGIN:VTIMEZONE
TZID:Europe/London
BEGIN:DAYLIGHT
TZOFFSETFROM:+0000
TZOFFSETTO:+0100
TZNAME:BST
DTSTART:20250330T010000
END:DAYLIGHT
BEGIN:STANDARD
TZOFFSETFROM:+0100
TZOFFSETTO:+0000
TZNAME:GMT
DTSTART:20251026T010000
END:STANDARD
BEGIN:DAYLIGHT
TZOFFSETFROM:+0000
TZOFFSETTO:+0100
TZNAME:BST
DTSTART:20260329T010000
END:DAYLIGHT
BEGIN:STANDARD
TZOFFSETFROM:+0100
TZOFFSETTO:+0000
TZNAME:GMT
DTSTART:20261025T010000
END:STANDARD
BEGIN:DAYLIGHT
TZOFFSETFROM:+0000
TZOFFSETTO:+0100
TZNAME:BST
DTSTART:20270328T010000
END:DAYLIGHT
BEGIN:STANDARD
TZOFFSETFROM:+0100
TZOFFSETTO:+0000
TZNAME:GMT
DTSTART:20271031T010000
END:STANDARD
END:VTIMEZONE
BEGIN:VEVENT
DTSTART;TZID=Europe/London:20260315T200000
DTEND;TZID=Europe/London:20260315T220000
DTSTAMP:20260421T011356
CREATED:20260305T113602Z
LAST-MODIFIED:20260305T113602Z
UID:64617-1773604800-1773612000@calendarioeventos.com
SUMMARY:Concierto - DAVID OTERO
DESCRIPTION:Concierto acústico de DAVID OTERO «Mi guitarra y yo» en Talleres Palermo\, Las Palmas de Gran Canaria. \nDavid Otero llega a Las Palmas con un concierto íntimo y cercano donde la música es la gran protagonista. En “Una guitarra y yo”\, el artista se presenta en formato acústico\, despojando sus canciones de artificios para conectar directamente con el público a través de su voz\, su guitarra y las historias que hay detrás de cada tema. \nUna noche especial para disfrutar de sus grandes éxitos y nuevas composiciones en un ambiente cálido y personal\, ideal para quienes buscan emociones auténticas y una experiencia musical diferente. \n 📍 Lugar: Talleres Palermo – Las Palmas \n📅 Fecha: 15 de marzo \n🕗 Hora: 20:00 h \n ENTRADAS ANTICIPADAS: https://www.tomaticket.es/es-es/entradas-david-otero-en-las-palmas-de-gran-canaria
URL:https://calendarioeventos.com/en/evento/concierto-david-otero/
LOCATION:Talleres Palermo\, C. República Dominicana\, 18\, 35010 Las Palmas de Gran Canaria\, Las Palmas
CATEGORIES:Concierto,Cultura,Las Palmas de GC
ATTACH;FMTTYPE=image/jpeg:https://calendarioeventos.com/wp-content/uploads/2026/03/david-otero-evM0lF.avif
END:VEVENT
END:VCALENDAR