BEGIN:VCALENDAR
VERSION:2.0
PRODID:-//Calendario de Eventos Gran Canaria - ECPv6.15.17.1//NONSGML v1.0//EN
CALSCALE:GREGORIAN
METHOD:PUBLISH
X-WR-CALNAME:Calendario de Eventos Gran Canaria
X-ORIGINAL-URL:https://calendarioeventos.com/en
X-WR-CALDESC:Events for Calendario de Eventos Gran Canaria
REFRESH-INTERVAL;VALUE=DURATION:PT1H
X-Robots-Tag:noindex
X-PUBLISHED-TTL:PT1H
BEGIN:VTIMEZONE
TZID:Europe/London
BEGIN:DAYLIGHT
TZOFFSETFROM:+0000
TZOFFSETTO:+0100
TZNAME:BST
DTSTART:20250330T010000
END:DAYLIGHT
BEGIN:STANDARD
TZOFFSETFROM:+0100
TZOFFSETTO:+0000
TZNAME:GMT
DTSTART:20251026T010000
END:STANDARD
BEGIN:DAYLIGHT
TZOFFSETFROM:+0000
TZOFFSETTO:+0100
TZNAME:BST
DTSTART:20260329T010000
END:DAYLIGHT
BEGIN:STANDARD
TZOFFSETFROM:+0100
TZOFFSETTO:+0000
TZNAME:GMT
DTSTART:20261025T010000
END:STANDARD
BEGIN:DAYLIGHT
TZOFFSETFROM:+0000
TZOFFSETTO:+0100
TZNAME:BST
DTSTART:20270328T010000
END:DAYLIGHT
BEGIN:STANDARD
TZOFFSETFROM:+0100
TZOFFSETTO:+0000
TZNAME:GMT
DTSTART:20271031T010000
END:STANDARD
END:VTIMEZONE
BEGIN:VEVENT
DTSTART;TZID=Europe/London:20260306T210000
DTEND;TZID=Europe/London:20260306T223000
DTSTAMP:20260423T173432
CREATED:20260224T133307Z
LAST-MODIFIED:20260224T133308Z
UID:61697-1772830800-1772836200@calendarioeventos.com
SUMMARY:Concierto - «Frida Orator»
DESCRIPTION:Concierto — Frida Orator en el Buenos Aires Jazz Café\, Las Palmas de Gran Canaria. \nFrída Orator es una joven cantante y compositora checa. Se acompaña con el dulcémele\, un instrumento muy especial\, que aporta un sonido único a sus interpretaciones. Presentará sus propias composiciones\, así como conocidas melodías de jazz\, siempre con el encanto distintivo del dulcémele. El aforo es limitado y tienen prioridad de acceso a la sala las personas que adquirieron su ticket online. Para el uso de la mesa se requiere una consumición obligatoria y las reservas se respetarán hasta 15 minutos después de iniciado el concierto. \nEntradas en este enlace
URL:https://calendarioeventos.com/en/evento/concierto-frida-orator/
LOCATION:Buenos Aires Jazz Cafe\, C. Mendizábal\, 37\, 35001 Las Palmas de Gran Canaria\, Las Palmas
CATEGORIES:Concierto,Cultura,Las Palmas de GC,Música
ATTACH;FMTTYPE=image/jpeg:https://calendarioeventos.com/wp-content/uploads/2026/02/NUEVO-POST-EVENTOS-50-fpE3u9.avif
END:VEVENT
END:VCALENDAR