BEGIN:VCALENDAR
VERSION:2.0
PRODID:-//Calendario de Eventos Gran Canaria - ECPv6.15.17.1//NONSGML v1.0//EN
CALSCALE:GREGORIAN
METHOD:PUBLISH
X-WR-CALNAME:Calendario de Eventos Gran Canaria
X-ORIGINAL-URL:https://calendarioeventos.com/en
X-WR-CALDESC:Events for Calendario de Eventos Gran Canaria
REFRESH-INTERVAL;VALUE=DURATION:PT1H
X-Robots-Tag:noindex
X-PUBLISHED-TTL:PT1H
BEGIN:VTIMEZONE
TZID:Europe/London
BEGIN:DAYLIGHT
TZOFFSETFROM:+0000
TZOFFSETTO:+0100
TZNAME:BST
DTSTART:20250330T010000
END:DAYLIGHT
BEGIN:STANDARD
TZOFFSETFROM:+0100
TZOFFSETTO:+0000
TZNAME:GMT
DTSTART:20251026T010000
END:STANDARD
BEGIN:DAYLIGHT
TZOFFSETFROM:+0000
TZOFFSETTO:+0100
TZNAME:BST
DTSTART:20260329T010000
END:DAYLIGHT
BEGIN:STANDARD
TZOFFSETFROM:+0100
TZOFFSETTO:+0000
TZNAME:GMT
DTSTART:20261025T010000
END:STANDARD
BEGIN:DAYLIGHT
TZOFFSETFROM:+0000
TZOFFSETTO:+0100
TZNAME:BST
DTSTART:20270328T010000
END:DAYLIGHT
BEGIN:STANDARD
TZOFFSETFROM:+0100
TZOFFSETTO:+0000
TZNAME:GMT
DTSTART:20271031T010000
END:STANDARD
END:VTIMEZONE
BEGIN:VEVENT
DTSTART;TZID=Europe/London:20260307T203000
DTEND;TZID=Europe/London:20260307T220000
DTSTAMP:20260423T160327
CREATED:20260222T153517Z
LAST-MODIFIED:20260222T153517Z
UID:60736-1772915400-1772920800@calendarioeventos.com
SUMMARY:Concierto - «Georgina»
DESCRIPTION:Concierto de Georgina dentro del Ciclo Autoras 2026 en el Auditorio Alfredo Kraus\, Las Palmas de Gran Canaria. \nLa cantante venezolana Georgina regresa al Auditorio Alfredo Kraus dentro de la octava edición del ciclo Autoras 2026. Con su estilo pop-rock íntimo y letras cargadas de sentimiento\, la artista ofrecerá un concierto cercano que repasa su trayectoria en la escena musical española. \nEntradas en este enlace
URL:https://calendarioeventos.com/en/evento/concierto-georgina/
LOCATION:Auditorio Alfredo Kraus\, Avda\, Ctra. del Rincón\, s/n\, 35010 Las Palmas de Gran Canaria\, Las Palmas
CATEGORIES:Concierto,Cultura,Las Palmas de GC
ATTACH;FMTTYPE=image/jpeg:https://calendarioeventos.com/wp-content/uploads/2026/02/699b1cfa08409-pGsYuF.avif
END:VEVENT
END:VCALENDAR