BEGIN:VCALENDAR
VERSION:2.0
PRODID:-//Calendario de Eventos Gran Canaria - ECPv6.15.17.1//NONSGML v1.0//EN
CALSCALE:GREGORIAN
METHOD:PUBLISH
X-WR-CALNAME:Calendario de Eventos Gran Canaria
X-ORIGINAL-URL:https://calendarioeventos.com/en
X-WR-CALDESC:Events for Calendario de Eventos Gran Canaria
REFRESH-INTERVAL;VALUE=DURATION:PT1H
X-Robots-Tag:noindex
X-PUBLISHED-TTL:PT1H
BEGIN:VTIMEZONE
TZID:Europe/London
BEGIN:DAYLIGHT
TZOFFSETFROM:+0000
TZOFFSETTO:+0100
TZNAME:BST
DTSTART:20250330T010000
END:DAYLIGHT
BEGIN:STANDARD
TZOFFSETFROM:+0100
TZOFFSETTO:+0000
TZNAME:GMT
DTSTART:20251026T010000
END:STANDARD
BEGIN:DAYLIGHT
TZOFFSETFROM:+0000
TZOFFSETTO:+0100
TZNAME:BST
DTSTART:20260329T010000
END:DAYLIGHT
BEGIN:STANDARD
TZOFFSETFROM:+0100
TZOFFSETTO:+0000
TZNAME:GMT
DTSTART:20261025T010000
END:STANDARD
BEGIN:DAYLIGHT
TZOFFSETFROM:+0000
TZOFFSETTO:+0100
TZNAME:BST
DTSTART:20270328T010000
END:DAYLIGHT
BEGIN:STANDARD
TZOFFSETFROM:+0100
TZOFFSETTO:+0000
TZNAME:GMT
DTSTART:20271031T010000
END:STANDARD
END:VTIMEZONE
BEGIN:VEVENT
DTSTART;TZID=Europe/London:20260317T180000
DTEND;TZID=Europe/London:20260317T193000
DTSTAMP:20260419T171551
CREATED:20260226T175110Z
LAST-MODIFIED:20260226T175207Z
UID:10014502-1773770400-1773775800@calendarioeventos.com
SUMMARY:Concierto - Guitarra Clásica Conservatorio Superior
DESCRIPTION:Concierto de Guitarra Clásica del Conservatorio Superior en la Fundación Nanino Díaz Cutillas\, Ingenio. \nEl alumnado del Conservatorio Superior de Música de Canarias\, sede Gran Canaria\, presenta un ciclo de guitarra clásica. \nParticipantes: Norberto Acosta\, Alberto González\, Aarón Vera\, Sofía Pérez\, Miriam Sánchez y Francisco Daniel Rodríguez. \nActividad gratuita previa inscripción. \n+ Información: Sede de la Fundación Nanino díaz Cutillas\, de 9:30 a 13:30 h\, o en el correo areapedagogicafndc@gmail.com
URL:https://calendarioeventos.com/en/evento/concierto-guitarra-clasica-conservatorio-superior/2026-03-17/
LOCATION:Fundación Nanino Díaz Cutillas\, C. Bravo Murillo\, 33\, CP:35003 Las Palmas de Gran Canaria\, Las Palmas
CATEGORIES:Concierto,Cultura,Eventos gratuitos,Ingenio
ATTACH;FMTTYPE=image/png:https://calendarioeventos.com/wp-content/uploads/2026/02/concierto-guitarra-cl-sica-conservatorio-superio-1772128266512.avif
END:VEVENT
END:VCALENDAR