BEGIN:VCALENDAR
VERSION:2.0
PRODID:-//Calendario de Eventos Gran Canaria - ECPv6.15.17.1//NONSGML v1.0//EN
CALSCALE:GREGORIAN
METHOD:PUBLISH
X-WR-CALNAME:Calendario de Eventos Gran Canaria
X-ORIGINAL-URL:https://calendarioeventos.com/en
X-WR-CALDESC:Events for Calendario de Eventos Gran Canaria
REFRESH-INTERVAL;VALUE=DURATION:PT1H
X-Robots-Tag:noindex
X-PUBLISHED-TTL:PT1H
BEGIN:VTIMEZONE
TZID:Europe/London
BEGIN:DAYLIGHT
TZOFFSETFROM:+0000
TZOFFSETTO:+0100
TZNAME:BST
DTSTART:20250330T010000
END:DAYLIGHT
BEGIN:STANDARD
TZOFFSETFROM:+0100
TZOFFSETTO:+0000
TZNAME:GMT
DTSTART:20251026T010000
END:STANDARD
BEGIN:DAYLIGHT
TZOFFSETFROM:+0000
TZOFFSETTO:+0100
TZNAME:BST
DTSTART:20260329T010000
END:DAYLIGHT
BEGIN:STANDARD
TZOFFSETFROM:+0100
TZOFFSETTO:+0000
TZNAME:GMT
DTSTART:20261025T010000
END:STANDARD
BEGIN:DAYLIGHT
TZOFFSETFROM:+0000
TZOFFSETTO:+0100
TZNAME:BST
DTSTART:20270328T010000
END:DAYLIGHT
BEGIN:STANDARD
TZOFFSETFROM:+0100
TZOFFSETTO:+0000
TZNAME:GMT
DTSTART:20271031T010000
END:STANDARD
END:VTIMEZONE
BEGIN:VEVENT
DTSTART;TZID=Europe/London:20260111T120000
DTEND;TZID=Europe/London:20260111T213000
DTSTAMP:20260421T153830
CREATED:20251223T110415Z
LAST-MODIFIED:20251223T151200Z
UID:10012137-1768132800-1768167000@calendarioeventos.com
SUMMARY:Concierto - Harry Sinfónico
DESCRIPTION:Concierto «Harry Sinfónico» en el Teatro Pérez Galdós\, Las Palmas de Gran Canaria. \nPrepárate para vivir una experiencia mágica e inolvidable. Harry Sinfónico es un concierto sinfónico tributo que celebra las legendarias bandas sonoras de la saga cinematográfica más querida de todos los tiempos. Una oportunidad única para revivir\, en directo\, la emoción y la aventura del universo de Harry Potter\, interpretadas por una orquesta sinfónica de primer nivel. \nEntradas en este enlace. \nFunciones a las 12\, 17 y 20h. \n\nDesde los primeros acordes de Hedwig’s Theme hasta los temas más épicos de las últimas entregas\, la música de John Williams y Alexandre Desplat sonará con toda su fuerza y majestuosidad. Cada nota te transportará al Castillo de Hogwarts\, al Gran Comedor\, a los pasillos llenos de secretos\, a los duelos mágicos y a las batallas contra las fuerzas oscuras. \nDurante este espectáculo\, el público se sumergirá en un viaje sensorial lleno de magia\, luz y emoción\, con proyecciones\, iluminación envolvente y efectos visuales que convertirán el escenario en un auténtico mundo mágico. \nTanto si creciste junto a Harry\, Hermione y Ron\, como si estás descubriendo este universo junto a tus hijos\, Harry Sinfónico es una cita imprescindible para disfrutar de la grandeza de la música y la magia del cine en vivo. \nUn homenaje sinfónico a la saga que marcó a generaciones. Vive la magia. Siente la música.
URL:https://calendarioeventos.com/en/evento/concierto-harry-sinfonico/2026-01-11/
LOCATION:Teatro Pérez Galdós\, Plaza de Stagno\, 35002 Las Palmas de Gran Canaria\, Las Palmas
CATEGORIES:Concierto,Cultura,Infantil,Las Palmas de GC
ATTACH;FMTTYPE=image/png:https://calendarioeventos.com/wp-content/uploads/2025/12/0-19.avif
END:VEVENT
END:VCALENDAR