BEGIN:VCALENDAR
VERSION:2.0
PRODID:-//Calendario de Eventos Gran Canaria - ECPv6.15.17.1//NONSGML v1.0//EN
CALSCALE:GREGORIAN
METHOD:PUBLISH
X-WR-CALNAME:Calendario de Eventos Gran Canaria
X-ORIGINAL-URL:https://calendarioeventos.com/en
X-WR-CALDESC:Events for Calendario de Eventos Gran Canaria
REFRESH-INTERVAL;VALUE=DURATION:PT1H
X-Robots-Tag:noindex
X-PUBLISHED-TTL:PT1H
BEGIN:VTIMEZONE
TZID:Europe/London
BEGIN:DAYLIGHT
TZOFFSETFROM:+0000
TZOFFSETTO:+0100
TZNAME:BST
DTSTART:20250330T010000
END:DAYLIGHT
BEGIN:STANDARD
TZOFFSETFROM:+0100
TZOFFSETTO:+0000
TZNAME:GMT
DTSTART:20251026T010000
END:STANDARD
BEGIN:DAYLIGHT
TZOFFSETFROM:+0000
TZOFFSETTO:+0100
TZNAME:BST
DTSTART:20260329T010000
END:DAYLIGHT
BEGIN:STANDARD
TZOFFSETFROM:+0100
TZOFFSETTO:+0000
TZNAME:GMT
DTSTART:20261025T010000
END:STANDARD
BEGIN:DAYLIGHT
TZOFFSETFROM:+0000
TZOFFSETTO:+0100
TZNAME:BST
DTSTART:20270328T010000
END:DAYLIGHT
BEGIN:STANDARD
TZOFFSETFROM:+0100
TZOFFSETTO:+0000
TZNAME:GMT
DTSTART:20271031T010000
END:STANDARD
END:VTIMEZONE
BEGIN:VEVENT
DTSTART;TZID=Europe/London:20260310T180000
DTEND;TZID=Europe/London:20260310T193000
DTSTAMP:20260421T064533
CREATED:20260308T195713Z
LAST-MODIFIED:20260308T195716Z
UID:65042-1773165600-1773171000@calendarioeventos.com
SUMMARY:Concierto - «Homenaje a la mujer de los parranderos»
DESCRIPTION:Concierto — «Homenaje a la mujer de los parranderos» en el Centro de Mayores de La Aldea de San Nicolás\, Gran Canaria. \nEl Centro de Mayores del municipio invita a todas las personas usuarias y vecinas a disfrutar de una tarde muy especial el próximo martes 10 de marzo. Ese día\, a las 18:00 horas\, se celebrará en el Centro de Mayores un emotivo homenaje a las mujeres de los parranderos\, que contará con la actuación de la Parranda del Centro de Mayores de La Aldea. \nUna actividad pensada para fomentar la convivencia\, el ocio y el bienestar de nuestros mayores. Desde el Ayuntamiento y el Centro de Mayores animamos a todos y todas a participar y compartir una tarde llena de recuerdos\, música\, compañerismo y buen ambiente. \nDía Internacional de las Mujeres.
URL:https://calendarioeventos.com/en/evento/concierto-homenaje-a-la-mujer-de-los-parranderos/
LOCATION:Centro de Mayores de la Aldea\, C/ Real s/n\, La Aldea de San Nicolás de Tolentino\, Las Palmas\, 35470
CATEGORIES:Concierto,Cultura,Eventos gratuitos,La Aldea,Música,Mayores
ATTACH;FMTTYPE=image/jpeg:https://calendarioeventos.com/wp-content/uploads/2026/03/concierto-homenaje-a-la-mujer-de-los-parrandero-1772999829028.avif
END:VEVENT
END:VCALENDAR