BEGIN:VCALENDAR
VERSION:2.0
PRODID:-//Calendario de Eventos Gran Canaria - ECPv6.15.17.1//NONSGML v1.0//EN
CALSCALE:GREGORIAN
METHOD:PUBLISH
X-WR-CALNAME:Calendario de Eventos Gran Canaria
X-ORIGINAL-URL:https://calendarioeventos.com/en
X-WR-CALDESC:Events for Calendario de Eventos Gran Canaria
REFRESH-INTERVAL;VALUE=DURATION:PT1H
X-Robots-Tag:noindex
X-PUBLISHED-TTL:PT1H
BEGIN:VTIMEZONE
TZID:Europe/London
BEGIN:DAYLIGHT
TZOFFSETFROM:+0000
TZOFFSETTO:+0100
TZNAME:BST
DTSTART:20250330T010000
END:DAYLIGHT
BEGIN:STANDARD
TZOFFSETFROM:+0100
TZOFFSETTO:+0000
TZNAME:GMT
DTSTART:20251026T010000
END:STANDARD
BEGIN:DAYLIGHT
TZOFFSETFROM:+0000
TZOFFSETTO:+0100
TZNAME:BST
DTSTART:20260329T010000
END:DAYLIGHT
BEGIN:STANDARD
TZOFFSETFROM:+0100
TZOFFSETTO:+0000
TZNAME:GMT
DTSTART:20261025T010000
END:STANDARD
BEGIN:DAYLIGHT
TZOFFSETFROM:+0000
TZOFFSETTO:+0100
TZNAME:BST
DTSTART:20270328T010000
END:DAYLIGHT
BEGIN:STANDARD
TZOFFSETFROM:+0100
TZOFFSETTO:+0000
TZNAME:GMT
DTSTART:20271031T010000
END:STANDARD
END:VTIMEZONE
BEGIN:VEVENT
DTSTART;TZID=Europe/London:20260115T213000
DTEND;TZID=Europe/London:20260115T230000
DTSTAMP:20260423T151644
CREATED:20251229T110605Z
LAST-MODIFIED:20260103T123528Z
UID:48230-1768512600-1768518000@calendarioeventos.com
SUMMARY:Concierto - Ignotos &  Ariete
DESCRIPTION:Concierto de Ignotos & Ariete en Imaginario Drinks&Music\, Las Palmas de Gran Canaria. \nArrancamos el año como se merece 🔥\nCon mucha música y muchísimo rock!!! \n🎸 IGNOTOS & ÄRIETE en directo\n📍 Imaginario – Drinks & Music\n📅 15 de enero\n🕤 21:30 h \n💥 Entrada: 5€ · Dos bandas ·
URL:https://calendarioeventos.com/en/evento/concierto-ignotos-ariete/
LOCATION:Imaginario Drinks & Music\, C. Secretario Artiles\, 35\, 35007 Las Palmas de Gran Canaria\, Las Palmas
CATEGORIES:Concierto,Cultura,Eventos gratuitos,Las Palmas de GC,Música,Municipio,Precio
ATTACH;FMTTYPE=image/png:https://calendarioeventos.com/wp-content/uploads/2025/12/Screenshot-2026-01-03-at-12-34-46-Instagram.avif
END:VEVENT
END:VCALENDAR