BEGIN:VCALENDAR
VERSION:2.0
PRODID:-//Calendario de Eventos Gran Canaria - ECPv6.15.17.1//NONSGML v1.0//EN
CALSCALE:GREGORIAN
METHOD:PUBLISH
X-WR-CALNAME:Calendario de Eventos Gran Canaria
X-ORIGINAL-URL:https://calendarioeventos.com/en
X-WR-CALDESC:Events for Calendario de Eventos Gran Canaria
REFRESH-INTERVAL;VALUE=DURATION:PT1H
X-Robots-Tag:noindex
X-PUBLISHED-TTL:PT1H
BEGIN:VTIMEZONE
TZID:Europe/London
BEGIN:DAYLIGHT
TZOFFSETFROM:+0000
TZOFFSETTO:+0100
TZNAME:BST
DTSTART:20250330T010000
END:DAYLIGHT
BEGIN:STANDARD
TZOFFSETFROM:+0100
TZOFFSETTO:+0000
TZNAME:GMT
DTSTART:20251026T010000
END:STANDARD
BEGIN:DAYLIGHT
TZOFFSETFROM:+0000
TZOFFSETTO:+0100
TZNAME:BST
DTSTART:20260329T010000
END:DAYLIGHT
BEGIN:STANDARD
TZOFFSETFROM:+0100
TZOFFSETTO:+0000
TZNAME:GMT
DTSTART:20261025T010000
END:STANDARD
BEGIN:DAYLIGHT
TZOFFSETFROM:+0000
TZOFFSETTO:+0100
TZNAME:BST
DTSTART:20270328T010000
END:DAYLIGHT
BEGIN:STANDARD
TZOFFSETFROM:+0100
TZOFFSETTO:+0000
TZNAME:GMT
DTSTART:20271031T010000
END:STANDARD
END:VTIMEZONE
BEGIN:VEVENT
DTSTART;TZID=Europe/London:20260304T203000
DTEND;TZID=Europe/London:20260304T220000
DTSTAMP:20260423T205453
CREATED:20260301T183348Z
LAST-MODIFIED:20260301T183349Z
UID:63501-1772656200-1772661600@calendarioeventos.com
SUMMARY:Concierto — «Invasión Británica – Julio Pacheco»
DESCRIPTION:Concierto — Invasión Británica – Julio Pacheco en el Buenos Aires Jazz Café\, Las Palmas de Gran Canaria. \nVive una noche de clásicos del rock en versión íntima y vibrante con Julio Pacheco en el escenario del Buenos Aires Jazz Café. El show propone un recorrido por grandes himnos del rock nacional e internacional\, reinterpretados con personalidad\, fuerza y sensibilidad. Con una voz poderosa y una conexión directa con el público\, Julio Pacheco revive canciones que marcaron generaciones\, llevándolas a un formato cercano y emocionante. La calidez y el sonido del Buenos Aires Jazz Café hacen de este concierto una experiencia ideal para disfrutar el rock de siempre\, como nunca antes. Una noche para cantar\, recordar y sentir la música en vivo. \nEntradas en este enlace
URL:https://calendarioeventos.com/en/evento/concierto-invasion-britanica-julio-pacheco/
LOCATION:Buenos Aires Jazz Cafe\, C. Mendizábal\, 37\, 35001 Las Palmas de Gran Canaria\, Las Palmas
CATEGORIES:Concierto,Cultura,Las Palmas de GC,Música
ATTACH;FMTTYPE=image/jpeg:https://calendarioeventos.com/wp-content/uploads/2026/03/NUEVO-POST-EVENTOS-2026-02-27T144205.885-9CI9rm.avif
END:VEVENT
END:VCALENDAR