BEGIN:VCALENDAR
VERSION:2.0
PRODID:-//Calendario de Eventos Gran Canaria - ECPv6.15.17.1//NONSGML v1.0//EN
CALSCALE:GREGORIAN
METHOD:PUBLISH
X-WR-CALNAME:Calendario de Eventos Gran Canaria
X-ORIGINAL-URL:https://calendarioeventos.com/en
X-WR-CALDESC:Events for Calendario de Eventos Gran Canaria
REFRESH-INTERVAL;VALUE=DURATION:PT1H
X-Robots-Tag:noindex
X-PUBLISHED-TTL:PT1H
BEGIN:VTIMEZONE
TZID:Europe/London
BEGIN:DAYLIGHT
TZOFFSETFROM:+0000
TZOFFSETTO:+0100
TZNAME:BST
DTSTART:20250330T010000
END:DAYLIGHT
BEGIN:STANDARD
TZOFFSETFROM:+0100
TZOFFSETTO:+0000
TZNAME:GMT
DTSTART:20251026T010000
END:STANDARD
BEGIN:DAYLIGHT
TZOFFSETFROM:+0000
TZOFFSETTO:+0100
TZNAME:BST
DTSTART:20260329T010000
END:DAYLIGHT
BEGIN:STANDARD
TZOFFSETFROM:+0100
TZOFFSETTO:+0000
TZNAME:GMT
DTSTART:20261025T010000
END:STANDARD
BEGIN:DAYLIGHT
TZOFFSETFROM:+0000
TZOFFSETTO:+0100
TZNAME:BST
DTSTART:20270328T010000
END:DAYLIGHT
BEGIN:STANDARD
TZOFFSETFROM:+0100
TZOFFSETTO:+0000
TZNAME:GMT
DTSTART:20271031T010000
END:STANDARD
END:VTIMEZONE
BEGIN:VEVENT
DTSTART;TZID=Europe/London:20260321T200000
DTEND;TZID=Europe/London:20260321T213000
DTSTAMP:20260419T171926
CREATED:20260316T173815Z
LAST-MODIFIED:20260316T173816Z
UID:66428-1774123200-1774128600@calendarioeventos.com
SUMMARY:Concierto - «jartofacto»
DESCRIPTION:Concierto de jartofacto en El Sótano Analógico\, Las Palmas de Gran Canaria. \nEste sábado estaremos por El Sótano Analógico y nos gustaría mucho verles por allí.  \nLas entradas tienen un precio de 8 euros en modalidad anticipada y 10 euros en puerta\, incluyendo ambas opciones una consumición. \nDisponibles en este enlace
URL:https://calendarioeventos.com/en/evento/concierto-jartofacto/
LOCATION:El Sótano Analógico\, P.º de Tomás Morales\, 16\, Sótano Izq\, 35003 Las Palmas de Gran Canaria\, Las Palmas
CATEGORIES:Concierto,Cultura,Las Palmas de GC,Música
ATTACH;FMTTYPE=image/jpeg:https://calendarioeventos.com/wp-content/uploads/2026/03/concierto-jartofacto-1773682694934.jpeg
END:VEVENT
END:VCALENDAR