BEGIN:VCALENDAR
VERSION:2.0
PRODID:-//Calendario de Eventos Gran Canaria - ECPv6.15.17.1//NONSGML v1.0//EN
CALSCALE:GREGORIAN
METHOD:PUBLISH
X-WR-CALNAME:Calendario de Eventos Gran Canaria
X-ORIGINAL-URL:https://calendarioeventos.com/en
X-WR-CALDESC:Events for Calendario de Eventos Gran Canaria
REFRESH-INTERVAL;VALUE=DURATION:PT1H
X-Robots-Tag:noindex
X-PUBLISHED-TTL:PT1H
BEGIN:VTIMEZONE
TZID:Europe/London
BEGIN:DAYLIGHT
TZOFFSETFROM:+0000
TZOFFSETTO:+0100
TZNAME:BST
DTSTART:20240331T010000
END:DAYLIGHT
BEGIN:STANDARD
TZOFFSETFROM:+0100
TZOFFSETTO:+0000
TZNAME:GMT
DTSTART:20241027T010000
END:STANDARD
BEGIN:DAYLIGHT
TZOFFSETFROM:+0000
TZOFFSETTO:+0100
TZNAME:BST
DTSTART:20250330T010000
END:DAYLIGHT
BEGIN:STANDARD
TZOFFSETFROM:+0100
TZOFFSETTO:+0000
TZNAME:GMT
DTSTART:20251026T010000
END:STANDARD
BEGIN:DAYLIGHT
TZOFFSETFROM:+0000
TZOFFSETTO:+0100
TZNAME:BST
DTSTART:20260329T010000
END:DAYLIGHT
BEGIN:STANDARD
TZOFFSETFROM:+0100
TZOFFSETTO:+0000
TZNAME:GMT
DTSTART:20261025T010000
END:STANDARD
END:VTIMEZONE
BEGIN:VEVENT
DTSTART;TZID=Europe/London:20251213T200000
DTEND;TZID=Europe/London:20251213T213000
DTSTAMP:20260424T161424
CREATED:20251204T142813Z
LAST-MODIFIED:20251204T142813Z
UID:40426-1765656000-1765661400@calendarioeventos.com
SUMMARY:Concierto - La flauta encant-hada
DESCRIPTION:Concierto «La flauta encant-hada» del Ensemble de Flautas de la OCGC en la Ermita San Pedro Mártir de Verona\, Telde\, Gran Canaria. \nUn concierto lleno de color y fantasía\, donde la música viajará desde la luminosidad del Concierto en La mayor de Boismortier y la nostálgica Fantasía sobre Greensleeves de Vaughan Williams\, hasta la energía desenfrenada de la Marcha de los trolls de Grieg y la magia de la clásica Suite del Cascanueces. \nTambién podrás disfrutar la ternura de Somewhere Over the Rainbow\, el encanto de la Danza del Reino de Enredados y un vibrante Vuelo del Moscardón\, de Rimski-Kórsakov. \nAdemás\, el broche de oro viene de la mano de la obra de estreno de Sergio Galán Parro. \n🎟️​La entrada es libre hasta completar aforo. \n  \n  \n  \n 
URL:https://calendarioeventos.com/en/evento/concierto-la-flauta-encant-hada/
LOCATION:Ermita de San Pedro Mártir\, 35200 Telde\, Las Palmas
CATEGORIES:Concierto,Cultura,Eventos gratuitos,Telde
ATTACH;FMTTYPE=image/png:https://calendarioeventos.com/wp-content/uploads/2025/12/Screenshot-2025-12-04-at-14-25-20-Instagram.avif
END:VEVENT
END:VCALENDAR