BEGIN:VCALENDAR
VERSION:2.0
PRODID:-//Calendario de Eventos Gran Canaria - ECPv6.15.17.1//NONSGML v1.0//EN
CALSCALE:GREGORIAN
METHOD:PUBLISH
X-WR-CALNAME:Calendario de Eventos Gran Canaria
X-ORIGINAL-URL:https://calendarioeventos.com/en
X-WR-CALDESC:Events for Calendario de Eventos Gran Canaria
REFRESH-INTERVAL;VALUE=DURATION:PT1H
X-Robots-Tag:noindex
X-PUBLISHED-TTL:PT1H
BEGIN:VTIMEZONE
TZID:Europe/London
BEGIN:DAYLIGHT
TZOFFSETFROM:+0000
TZOFFSETTO:+0100
TZNAME:BST
DTSTART:20250330T010000
END:DAYLIGHT
BEGIN:STANDARD
TZOFFSETFROM:+0100
TZOFFSETTO:+0000
TZNAME:GMT
DTSTART:20251026T010000
END:STANDARD
BEGIN:DAYLIGHT
TZOFFSETFROM:+0000
TZOFFSETTO:+0100
TZNAME:BST
DTSTART:20260329T010000
END:DAYLIGHT
BEGIN:STANDARD
TZOFFSETFROM:+0100
TZOFFSETTO:+0000
TZNAME:GMT
DTSTART:20261025T010000
END:STANDARD
BEGIN:DAYLIGHT
TZOFFSETFROM:+0000
TZOFFSETTO:+0100
TZNAME:BST
DTSTART:20270328T010000
END:DAYLIGHT
BEGIN:STANDARD
TZOFFSETFROM:+0100
TZOFFSETTO:+0000
TZNAME:GMT
DTSTART:20271031T010000
END:STANDARD
END:VTIMEZONE
BEGIN:VEVENT
DTSTART;TZID=Europe/London:20260306T200000
DTEND;TZID=Europe/London:20260306T213000
DTSTAMP:20260423T175000
CREATED:20260222T153508Z
LAST-MODIFIED:20260222T153508Z
UID:60733-1772827200-1772832600@calendarioeventos.com
SUMMARY:Concierto - «La Pasión según San Juan»
DESCRIPTION:Concierto — La Pasión según San Juan en Auditorio Alfredo Kraus\, Las Palmas de Gran Canaria. \nKarel Mark Chichon lidera esta gran apuesta por el repertorio sinfónico-coral con la interpretación del oratorio La Pasión según San Juan de Johann Sebastian Bach. Esta obra maestra de extraordinaria fuerza expresiva\, donde lo espiritual y lo dramático alcanzan una perfecta síntesis\, contará con una puesta en escena dirigida por Mario Pontiggia. La Orquesta Filarmónica de Gran Canaria estará acompañada por el prestigioso Latvian Radio Choir y un sólido reparto vocal compuesto por Kateryna Kasper\, Adèle Charvet\, Raoul Steffani y los solistas canarios Gabriel Álvarez y Fernando Campero. \nEntradas en este enlace: https://auditorioalfredokraus.es/evento/la-pasion-segun-san-juan/2763
URL:https://calendarioeventos.com/en/evento/concierto-la-pasion-segun-san-juan/
LOCATION:Auditorio Alfredo Kraus\, Avda\, Ctra. del Rincón\, s/n\, 35010 Las Palmas de Gran Canaria\, Las Palmas
CATEGORIES:Clásica,Concierto,Cultura,Las Palmas de GC
ATTACH;FMTTYPE=image/jpeg:https://calendarioeventos.com/wp-content/uploads/2026/02/699b1c920abdc-tcK4zC.avif
END:VEVENT
END:VCALENDAR