BEGIN:VCALENDAR
VERSION:2.0
PRODID:-//Calendario de Eventos Gran Canaria - ECPv6.15.17.1//NONSGML v1.0//EN
CALSCALE:GREGORIAN
METHOD:PUBLISH
X-WR-CALNAME:Calendario de Eventos Gran Canaria
X-ORIGINAL-URL:https://calendarioeventos.com/en
X-WR-CALDESC:Events for Calendario de Eventos Gran Canaria
REFRESH-INTERVAL;VALUE=DURATION:PT1H
X-Robots-Tag:noindex
X-PUBLISHED-TTL:PT1H
BEGIN:VTIMEZONE
TZID:Europe/London
BEGIN:DAYLIGHT
TZOFFSETFROM:+0000
TZOFFSETTO:+0100
TZNAME:BST
DTSTART:20240331T010000
END:DAYLIGHT
BEGIN:STANDARD
TZOFFSETFROM:+0100
TZOFFSETTO:+0000
TZNAME:GMT
DTSTART:20241027T010000
END:STANDARD
BEGIN:DAYLIGHT
TZOFFSETFROM:+0000
TZOFFSETTO:+0100
TZNAME:BST
DTSTART:20250330T010000
END:DAYLIGHT
BEGIN:STANDARD
TZOFFSETFROM:+0100
TZOFFSETTO:+0000
TZNAME:GMT
DTSTART:20251026T010000
END:STANDARD
BEGIN:DAYLIGHT
TZOFFSETFROM:+0000
TZOFFSETTO:+0100
TZNAME:BST
DTSTART:20260329T010000
END:DAYLIGHT
BEGIN:STANDARD
TZOFFSETFROM:+0100
TZOFFSETTO:+0000
TZNAME:GMT
DTSTART:20261025T010000
END:STANDARD
END:VTIMEZONE
BEGIN:VEVENT
DTSTART;TZID=Europe/London:20251217T203000
DTEND;TZID=Europe/London:20251217T213000
DTSTAMP:20260420T081453
CREATED:20251125T105237Z
LAST-MODIFIED:20251217T133404Z
UID:36998-1766003400-1766007000@calendarioeventos.com
SUMMARY:Concierto - Las Navidades del Nuevo Potter
DESCRIPTION:Concierto Navideño «Las Navidades del Nuevo Potter» en la Plaza de Santa Ana\, Las Palmas de Gran Canaria. \nLa Banda Sinfónica Municipal de Las Palmas de Gran Canaria presenta un concierto navideño muy especial: Las navidades del nuevo Potter. En esta historia paralela\, Harry descubre su verdadera pasión: la música. \nLa @bsmlpgc te invita a descubrir los sueños de Harry Potter. En la aventura no faltarán los personajes del universo de J.K. Rowling \nEl especial de Navidad de la Banda Sinfónica de la ciudad te propone un repertorio ideal para la voz del crooner Fasur Rodríguez. En la obertura\, la formación interpretará la Suite Sinfónica de la BSO compuesta por John Willians\, después llegarán otras propuestas relacionadas con este Potter alternativo \nUn espectáculo familiar lleno de magia\, música y espíritu navideño.
URL:https://calendarioeventos.com/en/evento/concierto-las-navidades-del-nuevo-potter/
LOCATION:Plaza de Santa Ana\, Plaza Sta. Ana\, 35001 Las Palmas de Gran Canaria\, Las Palmas
CATEGORIES:Concierto,Cultura,Eventos gratuitos,Infantil,Las Palmas de GC
ATTACH;FMTTYPE=image/png:https://calendarioeventos.com/wp-content/uploads/2025/11/Screenshot-2025-12-15-at-13-49-30-Instagram.avif
END:VEVENT
END:VCALENDAR