BEGIN:VCALENDAR
VERSION:2.0
PRODID:-//Calendario de Eventos Gran Canaria - ECPv6.15.17.1//NONSGML v1.0//EN
CALSCALE:GREGORIAN
METHOD:PUBLISH
X-WR-CALNAME:Calendario de Eventos Gran Canaria
X-ORIGINAL-URL:https://calendarioeventos.com/en
X-WR-CALDESC:Events for Calendario de Eventos Gran Canaria
REFRESH-INTERVAL;VALUE=DURATION:PT1H
X-Robots-Tag:noindex
X-PUBLISHED-TTL:PT1H
BEGIN:VTIMEZONE
TZID:Europe/London
BEGIN:DAYLIGHT
TZOFFSETFROM:+0000
TZOFFSETTO:+0100
TZNAME:BST
DTSTART:20250330T010000
END:DAYLIGHT
BEGIN:STANDARD
TZOFFSETFROM:+0100
TZOFFSETTO:+0000
TZNAME:GMT
DTSTART:20251026T010000
END:STANDARD
BEGIN:DAYLIGHT
TZOFFSETFROM:+0000
TZOFFSETTO:+0100
TZNAME:BST
DTSTART:20260329T010000
END:DAYLIGHT
BEGIN:STANDARD
TZOFFSETFROM:+0100
TZOFFSETTO:+0000
TZNAME:GMT
DTSTART:20261025T010000
END:STANDARD
BEGIN:DAYLIGHT
TZOFFSETFROM:+0000
TZOFFSETTO:+0100
TZNAME:BST
DTSTART:20270328T010000
END:DAYLIGHT
BEGIN:STANDARD
TZOFFSETFROM:+0100
TZOFFSETTO:+0000
TZNAME:GMT
DTSTART:20271031T010000
END:STANDARD
END:VTIMEZONE
BEGIN:VEVENT
DTSTART;TZID=Europe/London:20260110T203000
DTEND;TZID=Europe/London:20260110T220000
DTSTAMP:20260421T034139
CREATED:20251223T102546Z
LAST-MODIFIED:20251223T102546Z
UID:46583-1768077000-1768082400@calendarioeventos.com
SUMMARY:Concierto - Lluís Capdevila Trio
DESCRIPTION:Concierto de Lluís Capdevila Trio en el Auditorio Alfredo Kraus\, Las Palmas de Gran Canaria \nUn concierto para redescubrir a Mompou desde el presente\, con una mirada abierta y lenguaje propio. El pianista y compositor Lluís Capdevila transforma esta obra temprana del gran compositor catalán Frederic Mompou desde el ritmo\, la improvisación y una sensibilidad contemporánea que respeta su esencia poética. \nLa música cobra nueva vida en un trío de jazz\, con una sonoridad abierta\, dinámica y expresiva que conecta pasado y presente con libertad y personalidad. \nEntradas en este enlace.
URL:https://calendarioeventos.com/en/evento/concierto-lluis-capdevila-trio/
LOCATION:Auditorio Alfredo Kraus\, Avda\, Ctra. del Rincón\, s/n\, 35010 Las Palmas de Gran Canaria\, Las Palmas
CATEGORIES:Concierto,Cultura,Las Palmas de GC,Música
ATTACH;FMTTYPE=image/jpeg:https://calendarioeventos.com/wp-content/uploads/2025/12/0-5.avif
END:VEVENT
END:VCALENDAR