BEGIN:VCALENDAR
VERSION:2.0
PRODID:-//Calendario de Eventos Gran Canaria - ECPv6.15.17.1//NONSGML v1.0//EN
CALSCALE:GREGORIAN
METHOD:PUBLISH
X-WR-CALNAME:Calendario de Eventos Gran Canaria
X-ORIGINAL-URL:https://calendarioeventos.com/en
X-WR-CALDESC:Events for Calendario de Eventos Gran Canaria
REFRESH-INTERVAL;VALUE=DURATION:PT1H
X-Robots-Tag:noindex
X-PUBLISHED-TTL:PT1H
BEGIN:VTIMEZONE
TZID:Europe/London
BEGIN:DAYLIGHT
TZOFFSETFROM:+0000
TZOFFSETTO:+0100
TZNAME:BST
DTSTART:20240331T010000
END:DAYLIGHT
BEGIN:STANDARD
TZOFFSETFROM:+0100
TZOFFSETTO:+0000
TZNAME:GMT
DTSTART:20241027T010000
END:STANDARD
BEGIN:DAYLIGHT
TZOFFSETFROM:+0000
TZOFFSETTO:+0100
TZNAME:BST
DTSTART:20250330T010000
END:DAYLIGHT
BEGIN:STANDARD
TZOFFSETFROM:+0100
TZOFFSETTO:+0000
TZNAME:GMT
DTSTART:20251026T010000
END:STANDARD
BEGIN:DAYLIGHT
TZOFFSETFROM:+0000
TZOFFSETTO:+0100
TZNAME:BST
DTSTART:20260329T010000
END:DAYLIGHT
BEGIN:STANDARD
TZOFFSETFROM:+0100
TZOFFSETTO:+0000
TZNAME:GMT
DTSTART:20261025T010000
END:STANDARD
END:VTIMEZONE
BEGIN:VEVENT
DTSTART;TZID=Europe/London:20251217T193000
DTEND;TZID=Europe/London:20251217T210000
DTSTAMP:20260425T184246
CREATED:20251209T181720Z
LAST-MODIFIED:20251216T103437Z
UID:42146-1765999800-1766005200@calendarioeventos.com
SUMMARY:Concierto -  Navidad Escuela Folklore Manolito Sánchez
DESCRIPTION:Concierto de Navidad Escuela de Folklore Manolito Sánchez en el Centro Cultural Federico García Lorca de Ingenio\, Gran Canaria. \nEste miércoles 17 de diciembre\, te invitamos al Recital de Villancicos de la Escuela de Folklore “Manolito Sánchez”\, una cita llena de tradición\, música y espíritu navideño 🎶🤍 \n📍 Lugar: Centro Cultural Federico García Lorca\n📅 Fecha: Miércoles\, 17 de diciembre\n⏰ Hora: 19:30 \nVen a disfrutar del talento de nuestro alumnado y a compartir una tarde muy especial en familia.\n¡Te esperamos para celebrar la Navidad a ritmo de folklore! \n 
URL:https://calendarioeventos.com/en/evento/concierto-navidad-escuela-folklore-manolito-sanchez/
LOCATION:Centro Cultural Federico García Lorca\, C. Ramón y Cajal\, 19\, 35250 Ingenio\, Las Palmas
CATEGORIES:Concierto,Cultura,Eventos gratuitos,Ingenio
ATTACH;FMTTYPE=image/jpeg:https://calendarioeventos.com/wp-content/uploads/2025/12/IMG_5112-576x1024-1.avif
END:VEVENT
END:VCALENDAR