BEGIN:VCALENDAR
VERSION:2.0
PRODID:-//Calendario de Eventos Gran Canaria - ECPv6.15.17.1//NONSGML v1.0//EN
CALSCALE:GREGORIAN
METHOD:PUBLISH
X-WR-CALNAME:Calendario de Eventos Gran Canaria
X-ORIGINAL-URL:https://calendarioeventos.com/en
X-WR-CALDESC:Events for Calendario de Eventos Gran Canaria
REFRESH-INTERVAL;VALUE=DURATION:PT1H
X-Robots-Tag:noindex
X-PUBLISHED-TTL:PT1H
BEGIN:VTIMEZONE
TZID:Europe/London
BEGIN:DAYLIGHT
TZOFFSETFROM:+0000
TZOFFSETTO:+0100
TZNAME:BST
DTSTART:20250330T010000
END:DAYLIGHT
BEGIN:STANDARD
TZOFFSETFROM:+0100
TZOFFSETTO:+0000
TZNAME:GMT
DTSTART:20251026T010000
END:STANDARD
BEGIN:DAYLIGHT
TZOFFSETFROM:+0000
TZOFFSETTO:+0100
TZNAME:BST
DTSTART:20260329T010000
END:DAYLIGHT
BEGIN:STANDARD
TZOFFSETFROM:+0100
TZOFFSETTO:+0000
TZNAME:GMT
DTSTART:20261025T010000
END:STANDARD
BEGIN:DAYLIGHT
TZOFFSETFROM:+0000
TZOFFSETTO:+0100
TZNAME:BST
DTSTART:20270328T010000
END:DAYLIGHT
BEGIN:STANDARD
TZOFFSETFROM:+0100
TZOFFSETTO:+0000
TZNAME:GMT
DTSTART:20271031T010000
END:STANDARD
END:VTIMEZONE
BEGIN:VEVENT
DTSTART;TZID=Europe/London:20260307T210000
DTEND;TZID=Europe/London:20260307T223000
DTSTAMP:20260423T160425
CREATED:20260302T173154Z
LAST-MODIFIED:20260302T173224Z
UID:63749-1772917200-1772922600@calendarioeventos.com
SUMMARY:Concierto — «Noche de Tango»
DESCRIPTION:Concierto — Noche de Tango en el Buenos Aires Jazz Café\, Las Palmas de Gran Canaria. \nEl sábado 7 de marzo nos encontramos en Baires Jazz Café para compartir una noche de tango en vivo\, cercana y auténtica. La propuesta nace del contrabajista ucraniano Ivan Nakapelyukh\, músico con más de 16 años de trayectoria en Argentina\, con un recorrido firme en la escena local y una mirada que une respeto por la tradición y apertura a lo nuevo. En el escenario lo acompañan Nahuel Francini en bandoneón y Alberto el Vasco en piano\, ambos integrantes de Sindicato del Tango. Cada uno aporta su propio lenguaje: el piano construye climas y matices\, mientras el bandoneón expresa el carácter más profundo y arrabalero del género. El contrabajo sostiene y dialoga\, generando un espacio donde habrá momentos de solos e improvisación\, dejando que la música fluya con naturalidad. Una noche para disfrutar el tango vivo\, en presente\, con un aforo limitado para garantizar la cercanía con los músicos. \nEntradas en este enlace
URL:https://calendarioeventos.com/en/evento/concierto-noche-de-tango/
LOCATION:Buenos Aires Jazz Cafe\, C. Mendizábal\, 37\, 35001 Las Palmas de Gran Canaria\, Las Palmas
CATEGORIES:Concierto,Cultura,Las Palmas de GC,Música
ATTACH;FMTTYPE=image/jpeg:https://calendarioeventos.com/wp-content/uploads/2026/03/NUEVO-POST-EVENTOS-2026-02-27T143929.149-8eryKr.avif
END:VEVENT
END:VCALENDAR