BEGIN:VCALENDAR
VERSION:2.0
PRODID:-//Calendario de Eventos Gran Canaria - ECPv6.15.17.1//NONSGML v1.0//EN
CALSCALE:GREGORIAN
METHOD:PUBLISH
X-WR-CALNAME:Calendario de Eventos Gran Canaria
X-ORIGINAL-URL:https://calendarioeventos.com/en
X-WR-CALDESC:Events for Calendario de Eventos Gran Canaria
REFRESH-INTERVAL;VALUE=DURATION:PT1H
X-Robots-Tag:noindex
X-PUBLISHED-TTL:PT1H
BEGIN:VTIMEZONE
TZID:Europe/London
BEGIN:DAYLIGHT
TZOFFSETFROM:+0000
TZOFFSETTO:+0100
TZNAME:BST
DTSTART:20240331T010000
END:DAYLIGHT
BEGIN:STANDARD
TZOFFSETFROM:+0100
TZOFFSETTO:+0000
TZNAME:GMT
DTSTART:20241027T010000
END:STANDARD
BEGIN:DAYLIGHT
TZOFFSETFROM:+0000
TZOFFSETTO:+0100
TZNAME:BST
DTSTART:20250330T010000
END:DAYLIGHT
BEGIN:STANDARD
TZOFFSETFROM:+0100
TZOFFSETTO:+0000
TZNAME:GMT
DTSTART:20251026T010000
END:STANDARD
BEGIN:DAYLIGHT
TZOFFSETFROM:+0000
TZOFFSETTO:+0100
TZNAME:BST
DTSTART:20260329T010000
END:DAYLIGHT
BEGIN:STANDARD
TZOFFSETFROM:+0100
TZOFFSETTO:+0000
TZNAME:GMT
DTSTART:20261025T010000
END:STANDARD
END:VTIMEZONE
BEGIN:VEVENT
DTSTART;TZID=Europe/London:20251109T130000
DTEND;TZID=Europe/London:20251109T143000
DTSTAMP:20260419T225111
CREATED:20251024T083538Z
LAST-MODIFIED:20251024T083538Z
UID:21099-1762693200-1762698600@calendarioeventos.com
SUMMARY:Concierto - Paco Pecado
DESCRIPTION:Concierto de Paco Pecado en la Sesión Vermú de Talleres Palermo\, Las Palmas de Gran Canaria. \nPaco Pecado es un vividor con espíritu de bandolero\, de gustos setenteros y con especial predilección por lo kitsch\, lo retro y lo vetusto. Amante de lo decadente y lo bohemio\, lo mismo se puede coronar como Rey de la Fiesta que personificarse como el más frágil conductor del sentimentalismo melodramático. \nDespués de varias giras deficitarias y de mucho remar presenta ‘Entre Bodegas y Ferias’ su primer lanzamiento de un larga duración. \nEste trovador moderno se viene desde Barcelona a Talleres Palermo para hacer una show a la hora del vermú muy muy especial uno de los nombres que va a dar mucho de qué hablar en la escena musical de este país en los próximos años…al tiempo. \n…y acabaremos haciendo la conga… \nCONSIGUE TUS ENTRADAS EN ESTE ENLACE \n 
URL:https://calendarioeventos.com/en/evento/concierto-paco-pecado/
LOCATION:Talleres Palermo\, C. República Dominicana\, 18\, 35010 Las Palmas de Gran Canaria\, Las Palmas
CATEGORIES:Concierto,Cultura,Las Palmas de GC
ATTACH;FMTTYPE=image/png:https://calendarioeventos.com/wp-content/uploads/2025/10/PACO-POST.avif
END:VEVENT
END:VCALENDAR