BEGIN:VCALENDAR
VERSION:2.0
PRODID:-//Calendario de Eventos Gran Canaria - ECPv6.15.17.1//NONSGML v1.0//EN
CALSCALE:GREGORIAN
METHOD:PUBLISH
X-WR-CALNAME:Calendario de Eventos Gran Canaria
X-ORIGINAL-URL:https://calendarioeventos.com/en
X-WR-CALDESC:Events for Calendario de Eventos Gran Canaria
REFRESH-INTERVAL;VALUE=DURATION:PT1H
X-Robots-Tag:noindex
X-PUBLISHED-TTL:PT1H
BEGIN:VTIMEZONE
TZID:Europe/London
BEGIN:DAYLIGHT
TZOFFSETFROM:+0000
TZOFFSETTO:+0100
TZNAME:BST
DTSTART:20250330T010000
END:DAYLIGHT
BEGIN:STANDARD
TZOFFSETFROM:+0100
TZOFFSETTO:+0000
TZNAME:GMT
DTSTART:20251026T010000
END:STANDARD
BEGIN:DAYLIGHT
TZOFFSETFROM:+0000
TZOFFSETTO:+0100
TZNAME:BST
DTSTART:20260329T010000
END:DAYLIGHT
BEGIN:STANDARD
TZOFFSETFROM:+0100
TZOFFSETTO:+0000
TZNAME:GMT
DTSTART:20261025T010000
END:STANDARD
BEGIN:DAYLIGHT
TZOFFSETFROM:+0000
TZOFFSETTO:+0100
TZNAME:BST
DTSTART:20270328T010000
END:DAYLIGHT
BEGIN:STANDARD
TZOFFSETFROM:+0100
TZOFFSETTO:+0000
TZNAME:GMT
DTSTART:20271031T010000
END:STANDARD
END:VTIMEZONE
BEGIN:VEVENT
DTSTART;TZID=Europe/London:20260321T120000
DTEND;TZID=Europe/London:20260321T133000
DTSTAMP:20260419T172259
CREATED:20260318T194916Z
LAST-MODIFIED:20260318T194917Z
UID:66965-1774094400-1774099800@calendarioeventos.com
SUMMARY:Concierto — «Presentación de La umbría en El Bote»
DESCRIPTION:Concierto — Presentación en directo de La umbría en Bar El Bote\, Las Palmas de Gran Canaria. \nEl sábado día 21 el bar El Bote abrirá sus puertas a mediodía para quienes quieran pasar a escuchar el disco completo allí en directo (tocadito por mí\, obviamente…).  \nLa entrada será gratuita y empezaremos a las 12:00\, para que se puedan ir después a dar un paseo\, a la cabalgata del sur o a dormir la siesta para que se les pase el susto.  \nHabrá alguna sorpresa que ya iré contando y allí tendremos también el disco a la venta.
URL:https://calendarioeventos.com/en/evento/concierto-presentacion-de-la-umbria-en-el-bote/
LOCATION:Bar restaurante El Bote\, C. Eusebio Navarro\, 15\, 35003 Las Palmas de Gran Canaria\, Las Palmas
CATEGORIES:Concierto,Cultura,Eventos gratuitos,Las Palmas de GC
ATTACH;FMTTYPE=image/jpeg:https://calendarioeventos.com/wp-content/uploads/2026/03/concierto-presentaci-n-de-la-umbr-a-en-el-bote-1773863354976.avif
END:VEVENT
END:VCALENDAR