BEGIN:VCALENDAR
VERSION:2.0
PRODID:-//Calendario de Eventos Gran Canaria - ECPv6.15.17.1//NONSGML v1.0//EN
CALSCALE:GREGORIAN
METHOD:PUBLISH
X-WR-CALNAME:Calendario de Eventos Gran Canaria
X-ORIGINAL-URL:https://calendarioeventos.com/en
X-WR-CALDESC:Events for Calendario de Eventos Gran Canaria
REFRESH-INTERVAL;VALUE=DURATION:PT1H
X-Robots-Tag:noindex
X-PUBLISHED-TTL:PT1H
BEGIN:VTIMEZONE
TZID:Europe/London
BEGIN:DAYLIGHT
TZOFFSETFROM:+0000
TZOFFSETTO:+0100
TZNAME:BST
DTSTART:20240331T010000
END:DAYLIGHT
BEGIN:STANDARD
TZOFFSETFROM:+0100
TZOFFSETTO:+0000
TZNAME:GMT
DTSTART:20241027T010000
END:STANDARD
BEGIN:DAYLIGHT
TZOFFSETFROM:+0000
TZOFFSETTO:+0100
TZNAME:BST
DTSTART:20250330T010000
END:DAYLIGHT
BEGIN:STANDARD
TZOFFSETFROM:+0100
TZOFFSETTO:+0000
TZNAME:GMT
DTSTART:20251026T010000
END:STANDARD
BEGIN:DAYLIGHT
TZOFFSETFROM:+0000
TZOFFSETTO:+0100
TZNAME:BST
DTSTART:20260329T010000
END:DAYLIGHT
BEGIN:STANDARD
TZOFFSETFROM:+0100
TZOFFSETTO:+0000
TZNAME:GMT
DTSTART:20261025T010000
END:STANDARD
END:VTIMEZONE
BEGIN:VEVENT
DTSTART;TZID=Europe/London:20251112T200000
DTEND;TZID=Europe/London:20251112T210000
DTSTAMP:20260419T183916
CREATED:20251105T131523Z
LAST-MODIFIED:20251111T101747Z
UID:29988-1762977600-1762981200@calendarioeventos.com
SUMMARY:Concierto - Proyecto Música Lírica
DESCRIPTION:Concierto – Proyecto Música Lírica en la Iglesia de San Mateo\, Gran Canaria. \nConcierto Lírico con voces vegueras. \nEl 12 de noviembre la Vega de San Mateo se llenará de Ópera\, Zarzuela y obras de reconocidos autores de la mano de dos cantantes y vecinos del municipio: Silvia Pileño\, soprano\, y Manuel García\, tenor. \n🗒️ Ellos serán acompañados por el Maestro Sergio Alonso\, del que ya han podido disfrutar de su gran musicalidad y acompañamiento pianístico en otras ocasiones. \n📇 No pierdas la oportunidad de asistir a este maravilloso concierto.
URL:https://calendarioeventos.com/en/evento/concierto-proyecto-musica-lirica/
LOCATION:Iglesia de Vega de San Mateo\, Plaza Ntra. Sra. del Pino\, 35320 Vega de San Mateo\, Las Palmas
CATEGORIES:Concierto,Cultura,Eventos gratuitos,San Mateo
ATTACH;FMTTYPE=image/png:https://calendarioeventos.com/wp-content/uploads/2025/11/Screenshot-2025-11-11-at-10-16-22-Instagram.avif
END:VEVENT
END:VCALENDAR