BEGIN:VCALENDAR
VERSION:2.0
PRODID:-//Calendario de Eventos Gran Canaria - ECPv6.15.17.1//NONSGML v1.0//EN
CALSCALE:GREGORIAN
METHOD:PUBLISH
X-WR-CALNAME:Calendario de Eventos Gran Canaria
X-ORIGINAL-URL:https://calendarioeventos.com/en
X-WR-CALDESC:Events for Calendario de Eventos Gran Canaria
REFRESH-INTERVAL;VALUE=DURATION:PT1H
X-Robots-Tag:noindex
X-PUBLISHED-TTL:PT1H
BEGIN:VTIMEZONE
TZID:Europe/London
BEGIN:DAYLIGHT
TZOFFSETFROM:+0000
TZOFFSETTO:+0100
TZNAME:BST
DTSTART:20250330T010000
END:DAYLIGHT
BEGIN:STANDARD
TZOFFSETFROM:+0100
TZOFFSETTO:+0000
TZNAME:GMT
DTSTART:20251026T010000
END:STANDARD
BEGIN:DAYLIGHT
TZOFFSETFROM:+0000
TZOFFSETTO:+0100
TZNAME:BST
DTSTART:20260329T010000
END:DAYLIGHT
BEGIN:STANDARD
TZOFFSETFROM:+0100
TZOFFSETTO:+0000
TZNAME:GMT
DTSTART:20261025T010000
END:STANDARD
BEGIN:DAYLIGHT
TZOFFSETFROM:+0000
TZOFFSETTO:+0100
TZNAME:BST
DTSTART:20270328T010000
END:DAYLIGHT
BEGIN:STANDARD
TZOFFSETFROM:+0100
TZOFFSETTO:+0000
TZNAME:GMT
DTSTART:20271031T010000
END:STANDARD
END:VTIMEZONE
BEGIN:VEVENT
DTSTART;TZID=Europe/London:20260306T220000
DTEND;TZID=Europe/London:20260306T233000
DTSTAMP:20260423T174000
CREATED:20260303T002723Z
LAST-MODIFIED:20260303T133924Z
UID:63838-1772834400-1772839800@calendarioeventos.com
SUMMARY:Concierto - «Queen of Limerick\, Tributo a The Cranberries»
DESCRIPTION:Concierto — Queen of Limerick\, Tributo a The Cranberries en la Sala Canarias en Vivo\, Las Palmas de Gran Canaria. \nRevive la fuerza y la emoción de la mítica banda irlandesa The Cranberries con el tributo de Queen of Limerick. \nQueen of Limerick presenta un tributo en formato acústico (guitarra y voz) que homenajea a la icónica banda irlandesa desde la sensibilidad y una interpretación propia. \nUn viaje por los himnos del rock alternativo de los 90\, llevados a un terreno íntimo y cercano\, pensado para quienes aún sienten esas canciones como parte de su historia. \nEntradas en este enlace
URL:https://calendarioeventos.com/en/evento/concierto-queen-of-limerick-tributo-a-the-cranberries/
LOCATION:Canarias en Vivo\, C. Matagalpa\, 1\, Bajo\, 35010 Las Palmas de Gran Canaria\, Las Palmas
CATEGORIES:Concierto,Cultura,Las Palmas de GC,Música
ATTACH;FMTTYPE=image/webp:https://calendarioeventos.com/wp-content/uploads/2026/03/Cartel20Base20y20diseC3B1os2028529-dF8lu1.avif
END:VEVENT
END:VCALENDAR