BEGIN:VCALENDAR
VERSION:2.0
PRODID:-//Calendario de Eventos Gran Canaria - ECPv6.15.17.1//NONSGML v1.0//EN
CALSCALE:GREGORIAN
METHOD:PUBLISH
X-WR-CALNAME:Calendario de Eventos Gran Canaria
X-ORIGINAL-URL:https://calendarioeventos.com/en
X-WR-CALDESC:Events for Calendario de Eventos Gran Canaria
REFRESH-INTERVAL;VALUE=DURATION:PT1H
X-Robots-Tag:noindex
X-PUBLISHED-TTL:PT1H
BEGIN:VTIMEZONE
TZID:Europe/London
BEGIN:DAYLIGHT
TZOFFSETFROM:+0000
TZOFFSETTO:+0100
TZNAME:BST
DTSTART:20250330T010000
END:DAYLIGHT
BEGIN:STANDARD
TZOFFSETFROM:+0100
TZOFFSETTO:+0000
TZNAME:GMT
DTSTART:20251026T010000
END:STANDARD
BEGIN:DAYLIGHT
TZOFFSETFROM:+0000
TZOFFSETTO:+0100
TZNAME:BST
DTSTART:20260329T010000
END:DAYLIGHT
BEGIN:STANDARD
TZOFFSETFROM:+0100
TZOFFSETTO:+0000
TZNAME:GMT
DTSTART:20261025T010000
END:STANDARD
BEGIN:DAYLIGHT
TZOFFSETFROM:+0000
TZOFFSETTO:+0100
TZNAME:BST
DTSTART:20270328T010000
END:DAYLIGHT
BEGIN:STANDARD
TZOFFSETFROM:+0100
TZOFFSETTO:+0000
TZNAME:GMT
DTSTART:20271031T010000
END:STANDARD
END:VTIMEZONE
BEGIN:VEVENT
DTSTART;TZID=Europe/London:20260102T200000
DTEND;TZID=Europe/London:20260102T213000
DTSTAMP:20260424T210443
CREATED:20251223T101627Z
LAST-MODIFIED:20251223T101627Z
UID:46565-1767384000-1767389400@calendarioeventos.com
SUMMARY:Concierto - Revólver
DESCRIPTION:Concierto de Revólver «El Dorado\, 30 Aniversario» en el Auditorio Alfredo Kraus\, Las Palmas de Gran Canaria \nRevólver\, el grupo de rock capitaneado por Carlos Goñi\, conmemora en 2025 el trigésimo aniversario de la edición de ‘El Dorado’\, uno de sus discos más celebrados\, con once únicos conciertos. Una gira que se detendrá el 3 de enero en la Sala Sinfónica del Auditorio Kraus. \nLa voz y la guitarra de Goñi\, Alfredo Lorente al bajo\, Miguel Giner a la batería\, David Samaniego en el piano y Josvi Muñoz al saxo interpretarán el listado completo de los temas del álbum\, así como muchos de sus grandes éxitos. \nEntradas en este enlace.
URL:https://calendarioeventos.com/en/evento/concierto-revolver/
LOCATION:Auditorio Alfredo Kraus\, Avda\, Ctra. del Rincón\, s/n\, 35010 Las Palmas de Gran Canaria\, Las Palmas
CATEGORIES:Concierto,Cultura,Las Palmas de GC,Música
ATTACH;FMTTYPE=image/jpeg:https://calendarioeventos.com/wp-content/uploads/2025/12/0.avif
END:VEVENT
END:VCALENDAR