BEGIN:VCALENDAR
VERSION:2.0
PRODID:-//Calendario de Eventos Gran Canaria - ECPv6.15.17.1//NONSGML v1.0//EN
CALSCALE:GREGORIAN
METHOD:PUBLISH
X-WR-CALNAME:Calendario de Eventos Gran Canaria
X-ORIGINAL-URL:https://calendarioeventos.com/en
X-WR-CALDESC:Events for Calendario de Eventos Gran Canaria
REFRESH-INTERVAL;VALUE=DURATION:PT1H
X-Robots-Tag:noindex
X-PUBLISHED-TTL:PT1H
BEGIN:VTIMEZONE
TZID:Europe/London
BEGIN:DAYLIGHT
TZOFFSETFROM:+0000
TZOFFSETTO:+0100
TZNAME:BST
DTSTART:20240331T010000
END:DAYLIGHT
BEGIN:STANDARD
TZOFFSETFROM:+0100
TZOFFSETTO:+0000
TZNAME:GMT
DTSTART:20241027T010000
END:STANDARD
BEGIN:DAYLIGHT
TZOFFSETFROM:+0000
TZOFFSETTO:+0100
TZNAME:BST
DTSTART:20250330T010000
END:DAYLIGHT
BEGIN:STANDARD
TZOFFSETFROM:+0100
TZOFFSETTO:+0000
TZNAME:GMT
DTSTART:20251026T010000
END:STANDARD
BEGIN:DAYLIGHT
TZOFFSETFROM:+0000
TZOFFSETTO:+0100
TZNAME:BST
DTSTART:20260329T010000
END:DAYLIGHT
BEGIN:STANDARD
TZOFFSETFROM:+0100
TZOFFSETTO:+0000
TZNAME:GMT
DTSTART:20261025T010000
END:STANDARD
END:VTIMEZONE
BEGIN:VEVENT
DTSTART;TZID=Europe/London:20251213T203000
DTEND;TZID=Europe/London:20251213T220000
DTSTAMP:20260424T143501
CREATED:20251211T101514Z
LAST-MODIFIED:20251212T133641Z
UID:42664-1765657800-1765663200@calendarioeventos.com
SUMMARY:Concierto - Romántico Venereum
DESCRIPTION:Concierto «Romántico Venereum» en el Castillo de la Luz de Las Palmas de Gran Canaria. \nEl arte de lo eterno se encuentra con el pulso del presente \nEste sábado te invitamos a disfrutar de un evento único donde la creatividad\, la emoción y la expresión artística se fusionan en un espectáculo irrepetible. \nCon la participación de:\n🎭 Asociación Cultural – Escuela de Interpretación Guacimara Correa – ACEIGC \nUna noche para dejarse llevar por el arte y la belleza en un entorno incomparable.
URL:https://calendarioeventos.com/en/evento/concierto-romantico-venereum/
LOCATION:Castillo de la Luz\, C. Juan Rejón\, s/n\, 35008 Palmas De Gran Canaria ( Las )\, Las Palmas
CATEGORIES:Concierto,Cultura,Eventos gratuitos,Las Palmas de GC
ATTACH;FMTTYPE=image/png:https://calendarioeventos.com/wp-content/uploads/2025/12/Screenshot-2025-12-11-at-10-13-07-Instagram.avif
END:VEVENT
END:VCALENDAR