BEGIN:VCALENDAR
VERSION:2.0
PRODID:-//Calendario de Eventos Gran Canaria - ECPv6.15.17.1//NONSGML v1.0//EN
CALSCALE:GREGORIAN
METHOD:PUBLISH
X-WR-CALNAME:Calendario de Eventos Gran Canaria
X-ORIGINAL-URL:https://calendarioeventos.com/en
X-WR-CALDESC:Events for Calendario de Eventos Gran Canaria
REFRESH-INTERVAL;VALUE=DURATION:PT1H
X-Robots-Tag:noindex
X-PUBLISHED-TTL:PT1H
BEGIN:VTIMEZONE
TZID:Europe/London
BEGIN:DAYLIGHT
TZOFFSETFROM:+0000
TZOFFSETTO:+0100
TZNAME:BST
DTSTART:20240331T010000
END:DAYLIGHT
BEGIN:STANDARD
TZOFFSETFROM:+0100
TZOFFSETTO:+0000
TZNAME:GMT
DTSTART:20241027T010000
END:STANDARD
BEGIN:DAYLIGHT
TZOFFSETFROM:+0000
TZOFFSETTO:+0100
TZNAME:BST
DTSTART:20250330T010000
END:DAYLIGHT
BEGIN:STANDARD
TZOFFSETFROM:+0100
TZOFFSETTO:+0000
TZNAME:GMT
DTSTART:20251026T010000
END:STANDARD
BEGIN:DAYLIGHT
TZOFFSETFROM:+0000
TZOFFSETTO:+0100
TZNAME:BST
DTSTART:20260329T010000
END:DAYLIGHT
BEGIN:STANDARD
TZOFFSETFROM:+0100
TZOFFSETTO:+0000
TZNAME:GMT
DTSTART:20261025T010000
END:STANDARD
END:VTIMEZONE
BEGIN:VEVENT
DTSTART;TZID=Europe/London:20251212T210000
DTEND;TZID=Europe/London:20251212T223000
DTSTAMP:20260424T212657
CREATED:20251126T100008Z
LAST-MODIFIED:20251126T100008Z
UID:37472-1765573200-1765578600@calendarioeventos.com
SUMMARY:Concierto - Salta Tequila Duo
DESCRIPTION:Concierto Baires – Salta Tequila Duo en Buenos Aires Jazz Café\, Las Palmas de Gran Canaria. \n\n\n\nEl dúo “Dos Tequilas y más versiones” nos ofrecerán un buen repertorio lleno de rock pop español e inglés que no dejarás de cantar con ellos\, a pesar de que habrá algunos temas Tequileros ya que pertenecen al proyecto Salta Tequila.\nSerá una noche especial llena de canciones de toda la vida. \n\n\nEntradas en este enlace.
URL:https://calendarioeventos.com/en/evento/concierto-salta-tequila-duo/
LOCATION:Buenos Aires Jazz Cafe\, C. Mendizábal\, 37\, 35001 Las Palmas de Gran Canaria\, Las Palmas
CATEGORIES:Concierto,Cultura,Las Palmas de GC
ATTACH;FMTTYPE=image/jpeg:https://calendarioeventos.com/wp-content/uploads/2025/11/Carteles-POST-y-WEB-3-2025-10-08T172554.009.avif
END:VEVENT
END:VCALENDAR