BEGIN:VCALENDAR
VERSION:2.0
PRODID:-//Calendario de Eventos Gran Canaria - ECPv6.15.17.1//NONSGML v1.0//EN
CALSCALE:GREGORIAN
METHOD:PUBLISH
X-WR-CALNAME:Calendario de Eventos Gran Canaria
X-ORIGINAL-URL:https://calendarioeventos.com/en
X-WR-CALDESC:Events for Calendario de Eventos Gran Canaria
REFRESH-INTERVAL;VALUE=DURATION:PT1H
X-Robots-Tag:noindex
X-PUBLISHED-TTL:PT1H
BEGIN:VTIMEZONE
TZID:Europe/London
BEGIN:DAYLIGHT
TZOFFSETFROM:+0000
TZOFFSETTO:+0100
TZNAME:BST
DTSTART:20250330T010000
END:DAYLIGHT
BEGIN:STANDARD
TZOFFSETFROM:+0100
TZOFFSETTO:+0000
TZNAME:GMT
DTSTART:20251026T010000
END:STANDARD
BEGIN:DAYLIGHT
TZOFFSETFROM:+0000
TZOFFSETTO:+0100
TZNAME:BST
DTSTART:20260329T010000
END:DAYLIGHT
BEGIN:STANDARD
TZOFFSETFROM:+0100
TZOFFSETTO:+0000
TZNAME:GMT
DTSTART:20261025T010000
END:STANDARD
BEGIN:DAYLIGHT
TZOFFSETFROM:+0000
TZOFFSETTO:+0100
TZNAME:BST
DTSTART:20270328T010000
END:DAYLIGHT
BEGIN:STANDARD
TZOFFSETFROM:+0100
TZOFFSETTO:+0000
TZNAME:GMT
DTSTART:20271031T010000
END:STANDARD
END:VTIMEZONE
BEGIN:VEVENT
DTSTART;TZID=Europe/London:20260115T193000
DTEND;TZID=Europe/London:20260115T210000
DTSTAMP:20260423T151227
CREATED:20260106T180728Z
LAST-MODIFIED:20260106T181243Z
UID:50072-1768505400-1768510800@calendarioeventos.com
SUMMARY:Concierto – Sam Bener
DESCRIPTION:Concierto de Sam Bener en Buganvilla Studio\, Las Palmas de Gran Canaria. \n\nX Habiendo Pelucas.\n\n 
URL:https://calendarioeventos.com/en/evento/concierto-sam-bener/
LOCATION:Buganvilla Studio\, Calle gravina n°9\, Las Palmas de Gran Canaria
CATEGORIES:Concierto,Cultura,Las Palmas de GC,Música
ATTACH;FMTTYPE=image/jpeg:https://calendarioeventos.com/wp-content/uploads/2026/01/587711776_17929055268179882_6007495704989232671_n.avif
END:VEVENT
END:VCALENDAR