BEGIN:VCALENDAR
VERSION:2.0
PRODID:-//Calendario de Eventos Gran Canaria - ECPv6.15.17.1//NONSGML v1.0//EN
CALSCALE:GREGORIAN
METHOD:PUBLISH
X-WR-CALNAME:Calendario de Eventos Gran Canaria
X-ORIGINAL-URL:https://calendarioeventos.com/en
X-WR-CALDESC:Events for Calendario de Eventos Gran Canaria
REFRESH-INTERVAL;VALUE=DURATION:PT1H
X-Robots-Tag:noindex
X-PUBLISHED-TTL:PT1H
BEGIN:VTIMEZONE
TZID:Europe/London
BEGIN:DAYLIGHT
TZOFFSETFROM:+0000
TZOFFSETTO:+0100
TZNAME:BST
DTSTART:20240331T010000
END:DAYLIGHT
BEGIN:STANDARD
TZOFFSETFROM:+0100
TZOFFSETTO:+0000
TZNAME:GMT
DTSTART:20241027T010000
END:STANDARD
BEGIN:DAYLIGHT
TZOFFSETFROM:+0000
TZOFFSETTO:+0100
TZNAME:BST
DTSTART:20250330T010000
END:DAYLIGHT
BEGIN:STANDARD
TZOFFSETFROM:+0100
TZOFFSETTO:+0000
TZNAME:GMT
DTSTART:20251026T010000
END:STANDARD
BEGIN:DAYLIGHT
TZOFFSETFROM:+0000
TZOFFSETTO:+0100
TZNAME:BST
DTSTART:20260329T010000
END:DAYLIGHT
BEGIN:STANDARD
TZOFFSETFROM:+0100
TZOFFSETTO:+0000
TZNAME:GMT
DTSTART:20261025T010000
END:STANDARD
END:VTIMEZONE
BEGIN:VEVENT
DTSTART;TZID=Europe/London:20251214T003000
DTEND;TZID=Europe/London:20251214T013000
DTSTAMP:20260424T065836
CREATED:20251211T135654Z
LAST-MODIFIED:20251211T135654Z
UID:42750-1765672200-1765675800@calendarioeventos.com
SUMMARY:Concierto - Sebastián Vita & Demian Domínguez
DESCRIPTION:Concierto – Sebastián Vita & Demian Domínguez en Buenos Aires Jazz Café\, Las Palmas de Gran Canaria. \n\nEn la noche del sábado a las 00:30hs del día 13 de diciembre\, tenemos el agrado de tener a 2 grandes músicos. \nUn concierto de Demian Domínguez y Sebastián Vita es una experiencia cargada de energía\, virtuosismo y emoción. \nDomínguez despliega su característico estilo de blues y rock con una guitarra intensa y una voz poderosa\, mientras Vita aporta una base rítmica sólida\, creativa y precisa que impulsa cada tema. \nJuntos crean un clima eléctrico\, combinando improvisaciones\, grooves profundos y momentos íntimos que conectan de inmediato con el público. \nEs un show vibrante\, auténtico y lleno de alma\, donde cada canción se vive como una historia. \n\nEntradas en este enlace.
URL:https://calendarioeventos.com/en/evento/concierto-sebastian-vita-demian-dominguez/
LOCATION:Buenos Aires Jazz Cafe\, C. Mendizábal\, 37\, 35001 Las Palmas de Gran Canaria\, Las Palmas
CATEGORIES:Concierto,Cultura,Las Palmas de GC
ATTACH;FMTTYPE=image/jpeg:https://calendarioeventos.com/wp-content/uploads/2025/12/NUEVO-POST-EVENTOS-58.avif
END:VEVENT
END:VCALENDAR