BEGIN:VCALENDAR
VERSION:2.0
PRODID:-//Calendario de Eventos Gran Canaria - ECPv6.15.17.1//NONSGML v1.0//EN
CALSCALE:GREGORIAN
METHOD:PUBLISH
X-WR-CALNAME:Calendario de Eventos Gran Canaria
X-ORIGINAL-URL:https://calendarioeventos.com/en
X-WR-CALDESC:Events for Calendario de Eventos Gran Canaria
REFRESH-INTERVAL;VALUE=DURATION:PT1H
X-Robots-Tag:noindex
X-PUBLISHED-TTL:PT1H
BEGIN:VTIMEZONE
TZID:Europe/London
BEGIN:DAYLIGHT
TZOFFSETFROM:+0000
TZOFFSETTO:+0100
TZNAME:BST
DTSTART:20240331T010000
END:DAYLIGHT
BEGIN:STANDARD
TZOFFSETFROM:+0100
TZOFFSETTO:+0000
TZNAME:GMT
DTSTART:20241027T010000
END:STANDARD
BEGIN:DAYLIGHT
TZOFFSETFROM:+0000
TZOFFSETTO:+0100
TZNAME:BST
DTSTART:20250330T010000
END:DAYLIGHT
BEGIN:STANDARD
TZOFFSETFROM:+0100
TZOFFSETTO:+0000
TZNAME:GMT
DTSTART:20251026T010000
END:STANDARD
BEGIN:DAYLIGHT
TZOFFSETFROM:+0000
TZOFFSETTO:+0100
TZNAME:BST
DTSTART:20260329T010000
END:DAYLIGHT
BEGIN:STANDARD
TZOFFSETFROM:+0100
TZOFFSETTO:+0000
TZNAME:GMT
DTSTART:20261025T010000
END:STANDARD
END:VTIMEZONE
BEGIN:VEVENT
DTSTART;TZID=Europe/London:20251218T210000
DTEND;TZID=Europe/London:20251218T223000
DTSTAMP:20260421T080040
CREATED:20251211T135823Z
LAST-MODIFIED:20251211T135823Z
UID:42753-1766091600-1766097000@calendarioeventos.com
SUMMARY:Concierto - Simonelli Dúo
DESCRIPTION:Concierto – Simonelli Dúo en Buenos Aires Jazz Café\, Las Palmas de Gran Canaria. \n\n\nPor primera vez en Buenos Aires Jazz Café\, el Jueves 18 de Diciembre. \nSimonelli es un dúo integrado por Aleksandra Tonelli (Argentina\, piano) y Simone van der Weerden (Países Bajos\, bandoneón)\, con base Rotterdam. \nSu propuesta recorre la música argentina del tango clásico al contemporáneo\, e incorpora también folklore y composiciones originales. \nSu repertorio reúne a Gardel\, Troilo\, Piazzolla\, Ginastera\, Leguizamón y Ramirez\, junto con composiciones propias que exploran nuevas sonoridades en el cruce entre tango\, jazz y música académica\, ofreciendo una experiencia que enlaza la raíz argentina con perspectiva internacional. \n\n\nEntradas en este enlace.
URL:https://calendarioeventos.com/en/evento/concierto-simonelli-duo/
LOCATION:Buenos Aires Jazz Cafe\, C. Mendizábal\, 37\, 35001 Las Palmas de Gran Canaria\, Las Palmas
CATEGORIES:Concierto,Cultura,Las Palmas de GC
ATTACH;FMTTYPE=image/jpeg:https://calendarioeventos.com/wp-content/uploads/2025/12/VIEJO-Carteles-POST-y-WEB-3-1-1.avif
END:VEVENT
END:VCALENDAR