BEGIN:VCALENDAR
VERSION:2.0
PRODID:-//Calendario de Eventos Gran Canaria - ECPv6.15.17.1//NONSGML v1.0//EN
CALSCALE:GREGORIAN
METHOD:PUBLISH
X-WR-CALNAME:Calendario de Eventos Gran Canaria
X-ORIGINAL-URL:https://calendarioeventos.com/en
X-WR-CALDESC:Events for Calendario de Eventos Gran Canaria
REFRESH-INTERVAL;VALUE=DURATION:PT1H
X-Robots-Tag:noindex
X-PUBLISHED-TTL:PT1H
BEGIN:VTIMEZONE
TZID:Europe/London
BEGIN:DAYLIGHT
TZOFFSETFROM:+0000
TZOFFSETTO:+0100
TZNAME:BST
DTSTART:20250330T010000
END:DAYLIGHT
BEGIN:STANDARD
TZOFFSETFROM:+0100
TZOFFSETTO:+0000
TZNAME:GMT
DTSTART:20251026T010000
END:STANDARD
BEGIN:DAYLIGHT
TZOFFSETFROM:+0000
TZOFFSETTO:+0100
TZNAME:BST
DTSTART:20260329T010000
END:DAYLIGHT
BEGIN:STANDARD
TZOFFSETFROM:+0100
TZOFFSETTO:+0000
TZNAME:GMT
DTSTART:20261025T010000
END:STANDARD
BEGIN:DAYLIGHT
TZOFFSETFROM:+0000
TZOFFSETTO:+0100
TZNAME:BST
DTSTART:20270328T010000
END:DAYLIGHT
BEGIN:STANDARD
TZOFFSETFROM:+0100
TZOFFSETTO:+0000
TZNAME:GMT
DTSTART:20271031T010000
END:STANDARD
END:VTIMEZONE
BEGIN:VEVENT
DTSTART;TZID=Europe/London:20260116T203000
DTEND;TZID=Europe/London:20260116T220000
DTSTAMP:20260421T141200
CREATED:20251223T103532Z
LAST-MODIFIED:20251223T103532Z
UID:46595-1768595400-1768600800@calendarioeventos.com
SUMMARY:Concierto - Steffen Morrison
DESCRIPTION:Concierto de Steffen Morrison en el Auditorio Alfredo Kraus\, Las Palmas de Gran Canaria. \nSunbeat LPA 2026. \nSon artistas como Steffen Morrison que mantienen viva la llama del sonido retro soul con un giro actual y original. Su sólida propuesta lo ha convertido en una voz ampliamente reconocida en Holanda. \nSteffen crece con las melodías\, los movimientos y el groove de los grandes del género\, pero también con los sonidos armoniosos de The Crystals\, el rock de The Rolling Stones y las letras de Lou Reed. Su equipaje musical tiene una colorida mezcla de influencias a las que ha añadido sus propios ingredientes\, seduciendo a un público muy amplio y al que sorprende con cada nuevo tema. \nEntradas en este enlace. \nLa historia de este cantante comienza a mediados de los 90 colaborando y grabando con artistas del momento y ejerciendo de vocalista en diferentes grupos del estilo. La relación que mantiene con el reputado y conocido productor noruego Tjeerd Oosterhuis dio como fruto un primer EP\, Just Another Man\, en septiembre de 2016\, que incluye el hit Do It All Again\, entrando en listas de radio y en festivales\, a destacar su actuación en el Uitmarkt de Amsterdam\, ciudad donde reside. \nCompaginó su lanzamiento en solitario con la aparición durante 2016 y 2017 como protagonista en el musical I’m a soulman que narra la extraordinaria historia del legendario sello discográfico STAX. Tras el lanzamiento del single All For You en 2017 ofreció diversos shows con su grupo The Band Of Brothers y continuó trabajando en lo que sería el álbum debut. \nFue en otoño de 2017 cuando se encerró en el estudio con sus compañeros Andy Platts (Mamas Gun\, Young Gun Silverfox)\, Luke Juby (Emeli Sandé\, Leona Lewis) y Tjeerd Oosterhuis  (Edsilia Rombley\, Candy Dulfer) para crear nuevas canciones. Tras semanas de sesiones en un estudio de la campiña británica\, debuta con Movin’ On en marzo 2018. Once tema deliciosos que contienen un vigoroso uptempo repleto de vientos como el del track que da título al álbum\, hasta intensas baladas soul como We Can Have it All. \nActualmente está de gira con su banda presentando un directo enérgico donde despliega todas sus dotes de auténtico showman\, acompañado de su banda habitual. Steffen ha \nactuado como artista invitado en los conciertos de Gregory Porter\, Joss Stone\, Maceo Parker y Raphael Saadiq
URL:https://calendarioeventos.com/en/evento/concierto-steffen-morrison/
LOCATION:Auditorio Alfredo Kraus\, Avda\, Ctra. del Rincón\, s/n\, 35010 Las Palmas de Gran Canaria\, Las Palmas
CATEGORIES:Concierto,Cultura,Las Palmas de GC,Música
ATTACH;FMTTYPE=image/jpeg:https://calendarioeventos.com/wp-content/uploads/2025/12/0-8.avif
END:VEVENT
END:VCALENDAR