BEGIN:VCALENDAR
VERSION:2.0
PRODID:-//Calendario de Eventos Gran Canaria - ECPv6.15.17.1//NONSGML v1.0//EN
CALSCALE:GREGORIAN
METHOD:PUBLISH
X-WR-CALNAME:Calendario de Eventos Gran Canaria
X-ORIGINAL-URL:https://calendarioeventos.com/en
X-WR-CALDESC:Events for Calendario de Eventos Gran Canaria
REFRESH-INTERVAL;VALUE=DURATION:PT1H
X-Robots-Tag:noindex
X-PUBLISHED-TTL:PT1H
BEGIN:VTIMEZONE
TZID:Europe/London
BEGIN:DAYLIGHT
TZOFFSETFROM:+0000
TZOFFSETTO:+0100
TZNAME:BST
DTSTART:20240331T010000
END:DAYLIGHT
BEGIN:STANDARD
TZOFFSETFROM:+0100
TZOFFSETTO:+0000
TZNAME:GMT
DTSTART:20241027T010000
END:STANDARD
BEGIN:DAYLIGHT
TZOFFSETFROM:+0000
TZOFFSETTO:+0100
TZNAME:BST
DTSTART:20250330T010000
END:DAYLIGHT
BEGIN:STANDARD
TZOFFSETFROM:+0100
TZOFFSETTO:+0000
TZNAME:GMT
DTSTART:20251026T010000
END:STANDARD
BEGIN:DAYLIGHT
TZOFFSETFROM:+0000
TZOFFSETTO:+0100
TZNAME:BST
DTSTART:20260329T010000
END:DAYLIGHT
BEGIN:STANDARD
TZOFFSETFROM:+0100
TZOFFSETTO:+0000
TZNAME:GMT
DTSTART:20261025T010000
END:STANDARD
END:VTIMEZONE
BEGIN:VEVENT
DTSTART;TZID=Europe/London:20251212T203000
DTEND;TZID=Europe/London:20251212T223000
DTSTAMP:20260424T225750
CREATED:20251204T142514Z
LAST-MODIFIED:20251212T153127Z
UID:40421-1765571400-1765578600@calendarioeventos.com
SUMMARY:Concierto - Taburiente + Non Trubada
DESCRIPTION:Concierto – Taburiente + Non Trubada en la Plaza de San Gregorio\, en el Teatro Juan Ramón Jiménez Telde\, Gran Canaria. \nTaburiente y NonTrubada🎶 se unen en un evento único para llenar la Plaza de San Gregorio de buena música. Prepara tus oídos para una noche mágica con dos bandas legendarias.
URL:https://calendarioeventos.com/en/evento/concierto-taburiente-non-trubada/
LOCATION:Teatro Municipal Juan Ramón Jiménez\, C. Poeta Pablo Neruda\, 1\, 35200 Telde\, Las Palmas
CATEGORIES:Concierto,Cultura,Eventos gratuitos,Música,Telde
ATTACH;FMTTYPE=image/png:https://calendarioeventos.com/wp-content/uploads/2025/12/Screenshot-2025-12-04-at-14-22-26-Instagram.avif
END:VEVENT
END:VCALENDAR