BEGIN:VCALENDAR
VERSION:2.0
PRODID:-//Calendario de Eventos Gran Canaria - ECPv6.15.17.1//NONSGML v1.0//EN
CALSCALE:GREGORIAN
METHOD:PUBLISH
X-WR-CALNAME:Calendario de Eventos Gran Canaria
X-ORIGINAL-URL:https://calendarioeventos.com/en
X-WR-CALDESC:Events for Calendario de Eventos Gran Canaria
REFRESH-INTERVAL;VALUE=DURATION:PT1H
X-Robots-Tag:noindex
X-PUBLISHED-TTL:PT1H
BEGIN:VTIMEZONE
TZID:Europe/London
BEGIN:DAYLIGHT
TZOFFSETFROM:+0000
TZOFFSETTO:+0100
TZNAME:BST
DTSTART:20250330T010000
END:DAYLIGHT
BEGIN:STANDARD
TZOFFSETFROM:+0100
TZOFFSETTO:+0000
TZNAME:GMT
DTSTART:20251026T010000
END:STANDARD
BEGIN:DAYLIGHT
TZOFFSETFROM:+0000
TZOFFSETTO:+0100
TZNAME:BST
DTSTART:20260329T010000
END:DAYLIGHT
BEGIN:STANDARD
TZOFFSETFROM:+0100
TZOFFSETTO:+0000
TZNAME:GMT
DTSTART:20261025T010000
END:STANDARD
BEGIN:DAYLIGHT
TZOFFSETFROM:+0000
TZOFFSETTO:+0100
TZNAME:BST
DTSTART:20270328T010000
END:DAYLIGHT
BEGIN:STANDARD
TZOFFSETFROM:+0100
TZOFFSETTO:+0000
TZNAME:GMT
DTSTART:20271031T010000
END:STANDARD
END:VTIMEZONE
BEGIN:VEVENT
DTSTART;TZID=Europe/London:20260110T230000
DTEND;TZID=Europe/London:20260111T003000
DTSTAMP:20260421T114822
CREATED:20251117T174558Z
LAST-MODIFIED:20251223T144425Z
UID:34221-1768086000-1768091400@calendarioeventos.com
SUMMARY:Concierto - The Cavaliers
DESCRIPTION:Concierto Baires – The Cavaliers Live en Buenos Aires Jazz Café\, Las Palmas de Gran Canaria. \nThe Cavaliers es una banda originaria de Gran Canaria especializada en rock clásico\, jump blues y ritmos vintage inspirados en los años 50. Su propuesta musical combina la energía del rock and roll con toques retro\, invitando al público a bailar y dejarse llevar por un sonido auténtico y nostálgico. \nConformados por músicos de Gran Canaria\, The Cavaliers ofrecen un repertorio que incluye versiones clásicas de rock & roll y rhythm & blues\, así como composiciones propias que reflejan su amor por los ritmos más puros y genuinos del pasado. \nEntradas en este enlace.
URL:https://calendarioeventos.com/en/evento/concierto-the-cavaliers/
LOCATION:Buenos Aires Jazz Cafe\, C. Mendizábal\, 37\, 35001 Las Palmas de Gran Canaria\, Las Palmas
CATEGORIES:Concierto,Cultura,Las Palmas de GC,Música,Municipio
ATTACH;FMTTYPE=image/jpeg:https://calendarioeventos.com/wp-content/uploads/2025/11/NUEVO-POST-EVENTOS-43.avif
END:VEVENT
END:VCALENDAR