BEGIN:VCALENDAR
VERSION:2.0
PRODID:-//Calendario de Eventos Gran Canaria - ECPv6.15.17.1//NONSGML v1.0//EN
CALSCALE:GREGORIAN
METHOD:PUBLISH
X-WR-CALNAME:Calendario de Eventos Gran Canaria
X-ORIGINAL-URL:https://calendarioeventos.com/en
X-WR-CALDESC:Events for Calendario de Eventos Gran Canaria
REFRESH-INTERVAL;VALUE=DURATION:PT1H
X-Robots-Tag:noindex
X-PUBLISHED-TTL:PT1H
BEGIN:VTIMEZONE
TZID:Europe/London
BEGIN:DAYLIGHT
TZOFFSETFROM:+0000
TZOFFSETTO:+0100
TZNAME:BST
DTSTART:20240331T010000
END:DAYLIGHT
BEGIN:STANDARD
TZOFFSETFROM:+0100
TZOFFSETTO:+0000
TZNAME:GMT
DTSTART:20241027T010000
END:STANDARD
BEGIN:DAYLIGHT
TZOFFSETFROM:+0000
TZOFFSETTO:+0100
TZNAME:BST
DTSTART:20250330T010000
END:DAYLIGHT
BEGIN:STANDARD
TZOFFSETFROM:+0100
TZOFFSETTO:+0000
TZNAME:GMT
DTSTART:20251026T010000
END:STANDARD
BEGIN:DAYLIGHT
TZOFFSETFROM:+0000
TZOFFSETTO:+0100
TZNAME:BST
DTSTART:20260329T010000
END:DAYLIGHT
BEGIN:STANDARD
TZOFFSETFROM:+0100
TZOFFSETTO:+0000
TZNAME:GMT
DTSTART:20261025T010000
END:STANDARD
END:VTIMEZONE
BEGIN:VEVENT
DTSTART;TZID=Europe/London:20251113T193000
DTEND;TZID=Europe/London:20251113T210000
DTSTAMP:20260419T172134
CREATED:20250107T000000Z
LAST-MODIFIED:20251111T095451Z
UID:2944-1763062200-1763067600@calendarioeventos.com
SUMMARY:Concierto – The Moon Rockers
DESCRIPTION:Concierto de The Moon Rockers en en Relax Beach Club\, San Agustín\, San Bartolomé de Tirajana\, Gran Canaria. \nHacia un tiempito que nuestros amigos de The Moon Rockers no nos visitaban y nos hacían vibrar con el mejor Rock and Roll de todos los tiempos\, pero esto se soluciona en nuestro Próximo JUERNES ON THE ROCKS.\nVente a disfrutar de la mejor música en directo\, de la mejor gastronomía y siempre con la playa y el mar de testigo . \n 
URL:https://calendarioeventos.com/en/evento/concierto-the-moon-rockers/
LOCATION:Relax Beach Club\, Plaza los Cocoteros n: 2 Bajo el Hotel Beach Club\, en la Playa\, C. de las Ahulagas\, 2\, 35100 Maspalomas\, Las Palmas
CATEGORIES:Concierto,Cultura,Música,San Bartolomé de Tirajana
ATTACH;FMTTYPE=image/png:https://calendarioeventos.com/wp-content/uploads/2025/01/Screenshot-2025-11-11-at-09-53-07-Instagram.avif
END:VEVENT
END:VCALENDAR