BEGIN:VCALENDAR
VERSION:2.0
PRODID:-//Calendario de Eventos Gran Canaria - ECPv6.15.17.1//NONSGML v1.0//EN
CALSCALE:GREGORIAN
METHOD:PUBLISH
X-WR-CALNAME:Calendario de Eventos Gran Canaria
X-ORIGINAL-URL:https://calendarioeventos.com/en
X-WR-CALDESC:Events for Calendario de Eventos Gran Canaria
REFRESH-INTERVAL;VALUE=DURATION:PT1H
X-Robots-Tag:noindex
X-PUBLISHED-TTL:PT1H
BEGIN:VTIMEZONE
TZID:Europe/London
BEGIN:DAYLIGHT
TZOFFSETFROM:+0000
TZOFFSETTO:+0100
TZNAME:BST
DTSTART:20240331T010000
END:DAYLIGHT
BEGIN:STANDARD
TZOFFSETFROM:+0100
TZOFFSETTO:+0000
TZNAME:GMT
DTSTART:20241027T010000
END:STANDARD
BEGIN:DAYLIGHT
TZOFFSETFROM:+0000
TZOFFSETTO:+0100
TZNAME:BST
DTSTART:20250330T010000
END:DAYLIGHT
BEGIN:STANDARD
TZOFFSETFROM:+0100
TZOFFSETTO:+0000
TZNAME:GMT
DTSTART:20251026T010000
END:STANDARD
BEGIN:DAYLIGHT
TZOFFSETFROM:+0000
TZOFFSETTO:+0100
TZNAME:BST
DTSTART:20260329T010000
END:DAYLIGHT
BEGIN:STANDARD
TZOFFSETFROM:+0100
TZOFFSETTO:+0000
TZNAME:GMT
DTSTART:20261025T010000
END:STANDARD
END:VTIMEZONE
BEGIN:VEVENT
DTSTART;TZID=Europe/London:20251205T193000
DTEND;TZID=Europe/London:20251205T223000
DTSTAMP:20260425T154702
CREATED:20251120T165114Z
LAST-MODIFIED:20251120T165114Z
UID:35622-1764963000-1764973800@calendarioeventos.com
SUMMARY:Concierto - Última parada
DESCRIPTION:Concierto de Última parada en la Plaza de Canarias (Trasera Parque Santa Catalina)\, Las Palmas de Gran Canaria. \n\nDentro del programa de «Sueña La Navidad» \nPreviamente música con DJ.
URL:https://calendarioeventos.com/en/evento/concierto-ultima-parada/
LOCATION:Plaza de Canarias\, 35007 Las Palmas de Gran Canaria\, Las Palmas
CATEGORIES:Concierto,Cultura,Eventos gratuitos,Las Palmas de GC
ATTACH;FMTTYPE=image/jpeg:https://calendarioeventos.com/wp-content/uploads/2025/11/39a1d160d6595a2745af0a4080044b91.avif
END:VEVENT
END:VCALENDAR