BEGIN:VCALENDAR
VERSION:2.0
PRODID:-//Calendario de Eventos Gran Canaria - ECPv6.15.17.1//NONSGML v1.0//EN
CALSCALE:GREGORIAN
METHOD:PUBLISH
X-WR-CALNAME:Calendario de Eventos Gran Canaria
X-ORIGINAL-URL:https://calendarioeventos.com/en
X-WR-CALDESC:Events for Calendario de Eventos Gran Canaria
REFRESH-INTERVAL;VALUE=DURATION:PT1H
X-Robots-Tag:noindex
X-PUBLISHED-TTL:PT1H
BEGIN:VTIMEZONE
TZID:Europe/London
BEGIN:DAYLIGHT
TZOFFSETFROM:+0000
TZOFFSETTO:+0100
TZNAME:BST
DTSTART:20250330T010000
END:DAYLIGHT
BEGIN:STANDARD
TZOFFSETFROM:+0100
TZOFFSETTO:+0000
TZNAME:GMT
DTSTART:20251026T010000
END:STANDARD
BEGIN:DAYLIGHT
TZOFFSETFROM:+0000
TZOFFSETTO:+0100
TZNAME:BST
DTSTART:20260329T010000
END:DAYLIGHT
BEGIN:STANDARD
TZOFFSETFROM:+0100
TZOFFSETTO:+0000
TZNAME:GMT
DTSTART:20261025T010000
END:STANDARD
BEGIN:DAYLIGHT
TZOFFSETFROM:+0000
TZOFFSETTO:+0100
TZNAME:BST
DTSTART:20270328T010000
END:DAYLIGHT
BEGIN:STANDARD
TZOFFSETFROM:+0100
TZOFFSETTO:+0000
TZNAME:GMT
DTSTART:20271031T010000
END:STANDARD
END:VTIMEZONE
BEGIN:VEVENT
DTSTART;TZID=Europe/London:20260308T123000
DTEND;TZID=Europe/London:20260308T150000
DTSTAMP:20260423T103225
CREATED:20260303T142132Z
LAST-MODIFIED:20260303T142132Z
UID:64074-1772973000-1772982000@calendarioeventos.com
SUMMARY:Concierto - Zaida y Abraham
DESCRIPTION:Concierto de Zaida y Abraham en los Domingos de Música del Mercado del Puerto\, Las Palmas de Gran Canaria.
URL:https://calendarioeventos.com/en/evento/concierto-zaida-y-abraham/
LOCATION:Mercado del Puerto\, Las palmas de gran canaria\, la isleta\, Las palmas de gran canaria\, Spain
CATEGORIES:Concierto,Cultura,Eventos gratuitos,Las Palmas de GC
ATTACH;FMTTYPE=image/png:https://calendarioeventos.com/wp-content/uploads/2026/03/8-MARZO-MUSICA-EN-VIVO-ZAIDA.avif
END:VEVENT
END:VCALENDAR