BEGIN:VCALENDAR
VERSION:2.0
PRODID:-//Calendario de Eventos Gran Canaria - ECPv6.15.17.1//NONSGML v1.0//EN
CALSCALE:GREGORIAN
METHOD:PUBLISH
X-WR-CALNAME:Calendario de Eventos Gran Canaria
X-ORIGINAL-URL:https://calendarioeventos.com/en
X-WR-CALDESC:Events for Calendario de Eventos Gran Canaria
REFRESH-INTERVAL;VALUE=DURATION:PT1H
X-Robots-Tag:noindex
X-PUBLISHED-TTL:PT1H
BEGIN:VTIMEZONE
TZID:Europe/London
BEGIN:DAYLIGHT
TZOFFSETFROM:+0000
TZOFFSETTO:+0100
TZNAME:BST
DTSTART:20250330T010000
END:DAYLIGHT
BEGIN:STANDARD
TZOFFSETFROM:+0100
TZOFFSETTO:+0000
TZNAME:GMT
DTSTART:20251026T010000
END:STANDARD
BEGIN:DAYLIGHT
TZOFFSETFROM:+0000
TZOFFSETTO:+0100
TZNAME:BST
DTSTART:20260329T010000
END:DAYLIGHT
BEGIN:STANDARD
TZOFFSETFROM:+0100
TZOFFSETTO:+0000
TZNAME:GMT
DTSTART:20261025T010000
END:STANDARD
BEGIN:DAYLIGHT
TZOFFSETFROM:+0000
TZOFFSETTO:+0100
TZNAME:BST
DTSTART:20270328T010000
END:DAYLIGHT
BEGIN:STANDARD
TZOFFSETFROM:+0100
TZOFFSETTO:+0000
TZNAME:GMT
DTSTART:20271031T010000
END:STANDARD
END:VTIMEZONE
BEGIN:VEVENT
DTSTART;TZID=Europe/London:20260308T100000
DTEND;TZID=Europe/London:20260308T143000
DTSTAMP:20260423T160755
CREATED:20260305T160133Z
LAST-MODIFIED:20260305T180505Z
UID:10014918-1772964000-1772980200@calendarioeventos.com
SUMMARY:Danza - Balboa&Lindy Weekend con Iris & Richard
DESCRIPTION:Danza – Balboa & Lindy Weekend con Iris & Richard en la academia de baile Syparyo\, en Las Palmas de Gran Canaria. \nOrganizamos un fin de semana de formación intensiva del 7 al 8 de marzo de la mano de Iris & Richard. \nSábado 7 de marzo – domingo 8 de marzo \nInfo y entradas en https://buytickets.at/mojoswingcanarias/2056617 \nMore info & tickets at https://buytickets.at/mojoswingcanarias/2056617 \nNiveles\nNivel Improver – Intermedio\nHas comenzado a bailar y has asistido a varias clases de introducción al Balboa. Este nivel está dirigido a aquellas personas que aún están aprendiendo lo básico y están familiarizándose con los movimientos fundamentales. \nNivel Intermedio – Avanzado\nTienes un mínimo de dos años y medio de experiencia bailando y ya dominas la ejecución de las figuras avanzadas como swing out o sugar push. Este nivel está destinado a quienes tienen una comprensión sólida de la técnica y pueden bailar con fluidez. \nHorario\nSábado\, 7 de marzo\n16:00 – 17:30: Balboa Improver-Intermedio\n17:40 – 18:40: Lindy Footwork\n18:50 – 20:20: Lindy Intermedio-Avanzado \nDomingo\, 8 de marzo\n10:15 – 11:45: Lindy Intermedio-Avanzado\n11:55 – 12:55: Lindy Footwork\n13:05 – 14:35: Balboa Improver-Intermedio
URL:https://calendarioeventos.com/en/evento/danza-balboalindy-weekend-con-iris-richard/2026-03-08/
LOCATION:Academia de baile y teatro Syparyo\, C/ General Bravo\, 13\, Las Palmas\, Las Palmas\, 35002\, Spain
CATEGORIES:Actividades,Danza,Las Palmas de GC,Música,Taller
ATTACH;FMTTYPE=image/jpeg:https://calendarioeventos.com/wp-content/uploads/2026/03/1000102763.avif
END:VEVENT
END:VCALENDAR