BEGIN:VCALENDAR
VERSION:2.0
PRODID:-//Calendario de Eventos Gran Canaria - ECPv6.15.17.1//NONSGML v1.0//EN
CALSCALE:GREGORIAN
METHOD:PUBLISH
X-WR-CALNAME:Calendario de Eventos Gran Canaria
X-ORIGINAL-URL:https://calendarioeventos.com/en
X-WR-CALDESC:Events for Calendario de Eventos Gran Canaria
REFRESH-INTERVAL;VALUE=DURATION:PT1H
X-Robots-Tag:noindex
X-PUBLISHED-TTL:PT1H
BEGIN:VTIMEZONE
TZID:Europe/London
BEGIN:DAYLIGHT
TZOFFSETFROM:+0000
TZOFFSETTO:+0100
TZNAME:BST
DTSTART:20250330T010000
END:DAYLIGHT
BEGIN:STANDARD
TZOFFSETFROM:+0100
TZOFFSETTO:+0000
TZNAME:GMT
DTSTART:20251026T010000
END:STANDARD
BEGIN:DAYLIGHT
TZOFFSETFROM:+0000
TZOFFSETTO:+0100
TZNAME:BST
DTSTART:20260329T010000
END:DAYLIGHT
BEGIN:STANDARD
TZOFFSETFROM:+0100
TZOFFSETTO:+0000
TZNAME:GMT
DTSTART:20261025T010000
END:STANDARD
BEGIN:DAYLIGHT
TZOFFSETFROM:+0000
TZOFFSETTO:+0100
TZNAME:BST
DTSTART:20270328T010000
END:DAYLIGHT
BEGIN:STANDARD
TZOFFSETFROM:+0100
TZOFFSETTO:+0000
TZNAME:GMT
DTSTART:20271031T010000
END:STANDARD
END:VTIMEZONE
BEGIN:VEVENT
DTSTART;TZID=Europe/London:20260314T193000
DTEND;TZID=Europe/London:20260314T203000
DTSTAMP:20260420T225649
CREATED:20260224T130716Z
LAST-MODIFIED:20260224T131613Z
UID:10014308-1773516600-1773520200@calendarioeventos.com
SUMMARY:Danza — «Residencia 4: Masdanza - La Venidera»
DESCRIPTION:Danza — Residencia 4: Masdanza – La Venidera en la Sala Insular de Teatro\, Las Palmas de Gran Canaria. \nPresentación del proyecto de residencia artística en colaboración con Masdanza. La pieza titulada La Consagración de la Primavera está basada en el libreto original de Stravinsky. A través de la compañía La Venidera\, se explora el movimiento contemporáneo y la reinterpretación de clásicos en el escenario de la SIT\, ofreciendo una visión fresca y potente de la danza actual. \nEntradas en este enlace
URL:https://calendarioeventos.com/en/evento/danza-residencia-4-masdanza-la-venidera/2026-03-14/
LOCATION:Sala insular de Teatro\, Av. Primero de Mayo\, 72\, 35002 Las Palmas de Gran Canaria\, Las Palmas
CATEGORIES:Cultura,Danza,Las Palmas de GC
ATTACH;FMTTYPE=image/jpeg:https://calendarioeventos.com/wp-content/uploads/2026/02/event_683-1-DRJ5n8.avif
END:VEVENT
END:VCALENDAR