BEGIN:VCALENDAR
VERSION:2.0
PRODID:-//Calendario de Eventos Gran Canaria - ECPv6.15.17.1//NONSGML v1.0//EN
CALSCALE:GREGORIAN
METHOD:PUBLISH
X-WR-CALNAME:Calendario de Eventos Gran Canaria
X-ORIGINAL-URL:https://calendarioeventos.com/en
X-WR-CALDESC:Events for Calendario de Eventos Gran Canaria
REFRESH-INTERVAL;VALUE=DURATION:PT1H
X-Robots-Tag:noindex
X-PUBLISHED-TTL:PT1H
BEGIN:VTIMEZONE
TZID:Europe/London
BEGIN:DAYLIGHT
TZOFFSETFROM:+0000
TZOFFSETTO:+0100
TZNAME:BST
DTSTART:20250330T010000
END:DAYLIGHT
BEGIN:STANDARD
TZOFFSETFROM:+0100
TZOFFSETTO:+0000
TZNAME:GMT
DTSTART:20251026T010000
END:STANDARD
BEGIN:DAYLIGHT
TZOFFSETFROM:+0000
TZOFFSETTO:+0100
TZNAME:BST
DTSTART:20260329T010000
END:DAYLIGHT
BEGIN:STANDARD
TZOFFSETFROM:+0100
TZOFFSETTO:+0000
TZNAME:GMT
DTSTART:20261025T010000
END:STANDARD
BEGIN:DAYLIGHT
TZOFFSETFROM:+0000
TZOFFSETTO:+0100
TZNAME:BST
DTSTART:20270328T010000
END:DAYLIGHT
BEGIN:STANDARD
TZOFFSETFROM:+0100
TZOFFSETTO:+0000
TZNAME:GMT
DTSTART:20271031T010000
END:STANDARD
END:VTIMEZONE
BEGIN:VEVENT
DTSTART;TZID=Europe/London:20260321T200000
DTEND;TZID=Europe/London:20260321T211500
DTSTAMP:20260419T172040
CREATED:20260223T131434Z
LAST-MODIFIED:20260223T131436Z
UID:61144-1774123200-1774127700@calendarioeventos.com
SUMMARY:Danza - «Retama Volumen 11»
DESCRIPTION:Danza — «Retama Volumen 11» en el Teatro Guiniguada\, Las Palmas de Gran Canaria. \nEl ciclo de danza contemporánea Retama llega a su volumen 11 para este año 2026. En esta sesión el público podrá disfrutar de cuatro piezas de danza: una nueva cita con la diversidad de lenguajes escénicos\, bajo la dirección artística de Natalia Medina\, y dentro de la línea Guiniguada en danza. El programa incluye las siguientes obras: \n‘RENAISSANCE’ (14’): de las creadoras Violeta Vargas y Menchu Vargas\, es una reflexión sobre el vértigo de la vida moderna y la fragilidad que esconde la constante necesidad de adaptación.‘UN PASO ATRÁS’ (15’): creada e interpretada por Miguel Zomas. Un drama personal y parodia ajena sobre la dificultad de escucharse a uno mismo frente a la corriente exterior.‘RETORNAR SIN RETORNO’ (12’): de la creadora e intérprete Emiliana Battista Marino. Un regreso a la raíz del ser y un homenaje a la fuerza que fluye desde el suelo hacia nosotros.‘SIMULACRO’ (13’): de Toni Aguilera\, una pieza que mezcla humor\, teatro y danza en escenas surrealistas sobre la vida. \nEl espectáculo tiene una duración aproximada de 70 minutos y está recomendado para todos los públicos. \nEntradas en este enlace
URL:https://calendarioeventos.com/en/evento/danza-retama-volumen-11/
LOCATION:Teatro Guiniguada\, C. Mesa de León\, 2\, 35001 Las Palmas de Gran Canaria\, Las Palmas
CATEGORIES:Cultura,Danza,Las Palmas de GC
ATTACH;FMTTYPE=image/jpeg:https://calendarioeventos.com/wp-content/uploads/2026/02/RETAMA-V11_Imagen-limpia_by-Yaiza-Mederos-dVPJB4.avif
END:VEVENT
END:VCALENDAR