BEGIN:VCALENDAR
VERSION:2.0
PRODID:-//Calendario de Eventos Gran Canaria - ECPv6.15.17.1//NONSGML v1.0//EN
CALSCALE:GREGORIAN
METHOD:PUBLISH
X-WR-CALNAME:Calendario de Eventos Gran Canaria
X-ORIGINAL-URL:https://calendarioeventos.com/en
X-WR-CALDESC:Events for Calendario de Eventos Gran Canaria
REFRESH-INTERVAL;VALUE=DURATION:PT1H
X-Robots-Tag:noindex
X-PUBLISHED-TTL:PT1H
BEGIN:VTIMEZONE
TZID:Europe/London
BEGIN:DAYLIGHT
TZOFFSETFROM:+0000
TZOFFSETTO:+0100
TZNAME:BST
DTSTART:20240331T010000
END:DAYLIGHT
BEGIN:STANDARD
TZOFFSETFROM:+0100
TZOFFSETTO:+0000
TZNAME:GMT
DTSTART:20241027T010000
END:STANDARD
BEGIN:DAYLIGHT
TZOFFSETFROM:+0000
TZOFFSETTO:+0100
TZNAME:BST
DTSTART:20250330T010000
END:DAYLIGHT
BEGIN:STANDARD
TZOFFSETFROM:+0100
TZOFFSETTO:+0000
TZNAME:GMT
DTSTART:20251026T010000
END:STANDARD
BEGIN:DAYLIGHT
TZOFFSETFROM:+0000
TZOFFSETTO:+0100
TZNAME:BST
DTSTART:20260329T010000
END:DAYLIGHT
BEGIN:STANDARD
TZOFFSETFROM:+0100
TZOFFSETTO:+0000
TZNAME:GMT
DTSTART:20261025T010000
END:STANDARD
END:VTIMEZONE
BEGIN:VEVENT
DTSTART;TZID=Europe/London:20251123T093000
DTEND;TZID=Europe/London:20251123T110000
DTSTAMP:20260425T131514
CREATED:20251107T110143Z
LAST-MODIFIED:20251107T110143Z
UID:30759-1763890200-1763895600@calendarioeventos.com
SUMMARY:Deporte - Carrera contra la Violencia de Género Guía
DESCRIPTION:Deporte – Carrera contra la Violencia de Género desde la Plaza de San Pedro\, La Atalaya de Guía\, Gran Canaria. \nEl plazo de inscripción ya está abierto a través del enlace https://tally.so/r/wa7EWZ y permanecerá disponible hasta el mismo día de la carrera\, hasta completar las 150 plazas. La prueba dará comienzo a las 10:00 horas y contará con un recorrido de aproximadamente tres kilómetros\, a través de un itinerario accesible y seguro que atravesará el parque urbano de El Bardo\, continuará hasta el CEIP Luis Cortí de Becerril y regresará por las calles Dolores de Sosa y Cuba hasta la plaza. \nMás información en este enlace.
URL:https://calendarioeventos.com/en/evento/deporte-carrera-contra-la-violencia-de-genero-guia/
LOCATION:La Atalaya de Guía\, 35450 La Atalaya\, Las Palmas
CATEGORIES:Actividades,Deporte,Eventos gratuitos,Guía
ATTACH;FMTTYPE=image/png:https://calendarioeventos.com/wp-content/uploads/2025/11/Screenshot-2025-11-07-at-10-58-57-1-Instagram.avif
END:VEVENT
END:VCALENDAR