BEGIN:VCALENDAR
VERSION:2.0
PRODID:-//Calendario de Eventos Gran Canaria - ECPv6.15.17.1//NONSGML v1.0//EN
CALSCALE:GREGORIAN
METHOD:PUBLISH
X-WR-CALNAME:Calendario de Eventos Gran Canaria
X-ORIGINAL-URL:https://calendarioeventos.com/en
X-WR-CALDESC:Events for Calendario de Eventos Gran Canaria
REFRESH-INTERVAL;VALUE=DURATION:PT1H
X-Robots-Tag:noindex
X-PUBLISHED-TTL:PT1H
BEGIN:VTIMEZONE
TZID:Europe/London
BEGIN:DAYLIGHT
TZOFFSETFROM:+0000
TZOFFSETTO:+0100
TZNAME:BST
DTSTART:20240331T010000
END:DAYLIGHT
BEGIN:STANDARD
TZOFFSETFROM:+0100
TZOFFSETTO:+0000
TZNAME:GMT
DTSTART:20241027T010000
END:STANDARD
BEGIN:DAYLIGHT
TZOFFSETFROM:+0000
TZOFFSETTO:+0100
TZNAME:BST
DTSTART:20250330T010000
END:DAYLIGHT
BEGIN:STANDARD
TZOFFSETFROM:+0100
TZOFFSETTO:+0000
TZNAME:GMT
DTSTART:20251026T010000
END:STANDARD
BEGIN:DAYLIGHT
TZOFFSETFROM:+0000
TZOFFSETTO:+0100
TZNAME:BST
DTSTART:20260329T010000
END:DAYLIGHT
BEGIN:STANDARD
TZOFFSETFROM:+0100
TZOFFSETTO:+0000
TZNAME:GMT
DTSTART:20261025T010000
END:STANDARD
END:VTIMEZONE
BEGIN:VEVENT
DTSTART;TZID=Europe/London:20251207T080000
DTEND;TZID=Europe/London:20251207T180000
DTSTAMP:20260425T142222
CREATED:20251125T150146Z
LAST-MODIFIED:20251125T150213Z
UID:10009897-1765094400-1765130400@calendarioeventos.com
SUMMARY:Deporte - Gran Canaria Bike Week
DESCRIPTION:Deporte – Gran Canaria Bike Week\, del 30 de noviembre al 7 de diciembre por toda la isla. \nCon la participación del multicampeón ciclista\, Tadej Pogacar -cuatro veces campeón del Tour de Francia- y otros ciclistas de nivel internacional en algunas de sus etapas. \nEn concreto serán 700 participantes en la TotalEnergies Gran Fondo Pico de las Nieves\, donde veremos a Pogacar y compañía. En el resto de etapas habrá un promedio de 200 ciclistas (un 45% de fuera de España y un 20% mujeres) para un total de 550 kilómetros repartidos en 7 etapas entre los municipios de Arucas\, Artenara\, San Bartolomé de Tirajana\, Telde\, Gáldar\, Agüimes\, Santa Lucía\, San Mateo\, Teror\, Valsequillo y Santa Brígida. \n\n30 nov – Total Energies Gran Fondo Pico de Las Nieves. 125 Km | Desnivel positivo acumulado: +3.324 m\n1 dic – Etapa Libre.\n2 dic – AGÜIMES – Sureste Rural. 98.38 Km | 1.505 m desnivel acumulado\n3 dic – TELDE – Pueblos Medianías. 84.30 Km | 1.928 m desnivel acumulado\n4 dic – Maspalomas Costa Canaria (cronoescalada). 61.04 Km | 1.434 m desnivel positivo\n5 dic – SANTA LUCÍA – Cumbre de Gran Canaria. 82.03 Km | 1.736 m desnivel acumulado\n6 dic – GÁLDAR – Gran Canaria Verde Norte de la Isla. 64.25 Km | +1.416 m desnivel acumulado\n7 dic – DUNAS – Love Gran Canaria. 43.85 Km | 854 m desnivel positivo\n\nToda la información es inscripciones en https://grancanariabikeweek.es/
URL:https://calendarioeventos.com/en/evento/deporte-gran-canaria-bike-week/2025-12-07/
LOCATION:Gran Canaria\, Gran Canaria
CATEGORIES:Actividades,Agüimes,Ciclismo,Gáldar,San Bartolomé de Tirajana,Santa Lucía de Tirajana,Telde
ATTACH;FMTTYPE=image/png:https://calendarioeventos.com/wp-content/uploads/2025/11/Screenshot-2025-11-25-at-14-56-43-Instagram.avif
END:VEVENT
END:VCALENDAR