BEGIN:VCALENDAR
VERSION:2.0
PRODID:-//Calendario de Eventos Gran Canaria - ECPv6.15.17.1//NONSGML v1.0//EN
CALSCALE:GREGORIAN
METHOD:PUBLISH
X-WR-CALNAME:Calendario de Eventos Gran Canaria
X-ORIGINAL-URL:https://calendarioeventos.com/en
X-WR-CALDESC:Events for Calendario de Eventos Gran Canaria
REFRESH-INTERVAL;VALUE=DURATION:PT1H
X-Robots-Tag:noindex
X-PUBLISHED-TTL:PT1H
BEGIN:VTIMEZONE
TZID:Europe/London
BEGIN:DAYLIGHT
TZOFFSETFROM:+0000
TZOFFSETTO:+0100
TZNAME:BST
DTSTART:20250330T010000
END:DAYLIGHT
BEGIN:STANDARD
TZOFFSETFROM:+0100
TZOFFSETTO:+0000
TZNAME:GMT
DTSTART:20251026T010000
END:STANDARD
BEGIN:DAYLIGHT
TZOFFSETFROM:+0000
TZOFFSETTO:+0100
TZNAME:BST
DTSTART:20260329T010000
END:DAYLIGHT
BEGIN:STANDARD
TZOFFSETFROM:+0100
TZOFFSETTO:+0000
TZNAME:GMT
DTSTART:20261025T010000
END:STANDARD
BEGIN:DAYLIGHT
TZOFFSETFROM:+0000
TZOFFSETTO:+0100
TZNAME:BST
DTSTART:20270328T010000
END:DAYLIGHT
BEGIN:STANDARD
TZOFFSETFROM:+0100
TZOFFSETTO:+0000
TZNAME:GMT
DTSTART:20271031T010000
END:STANDARD
END:VTIMEZONE
BEGIN:VEVENT
DTSTART;TZID=Europe/London:20260308T100000
DTEND;TZID=Europe/London:20260308T113000
DTSTAMP:20260420T001704
CREATED:20260226T212227Z
LAST-MODIFIED:20260226T212229Z
UID:62707-1772964000-1772969400@calendarioeventos.com
SUMMARY:Deporte — «I Jornada de Competición de Tenis de Mesa Escolar»
DESCRIPTION:Deporte — I Jornada de Competición de Tenis de Mesa Edad Escolar de Gran Canaria en el Pabellón municipal Villa de Firgas\, Gran Canaria. \nLa Concejalía de Deportes del Ayuntamiento de Firgas\, bajo la dirección de Marcos Marrero\, organiza la I Jornada de Competición de Tenis de Mesa en Edad Escolar de Gran Canaria 2026. Esta cita deportiva está diseñada para fomentar el deporte base y ofrecer un espacio competitivo para las categorías Benjamín\, alevín\, infantil\, cadete y juvenil. El evento tendrá lugar el próximo domingo 8 de marzo y busca reunir a los jóvenes talentos del tenis de mesa de toda la isla en una jornada dedicada a la superación y el compañerismo deportivo. \nLas personas interesadas en participar deben realizar su inscripción antes del 28 de febrero enviando un correo electrónico a figctm@hotmail.com.
URL:https://calendarioeventos.com/en/evento/deporte-i-jornada-de-competicion-de-tenis-de-mesa-escolar/
LOCATION:Centro polideportivo de Firgas\, C. Lomo el Pino\, 40\, 35431 Firgas\, Las Palmas
CATEGORIES:Actividades,Deporte,Firgas,Infantil,Jóvenes
ATTACH;FMTTYPE=image/jpeg:https://calendarioeventos.com/wp-content/uploads/2026/02/641321513_18054586970695534_4270099156606580618_n-wcouq7.avif
END:VEVENT
END:VCALENDAR